
BEGIN:VCALENDAR
VERSION:2.0
PRODID:-//Native Plant Society of Texas - ECPv6.15.20//NONSGML v1.0//EN
CALSCALE:GREGORIAN
METHOD:PUBLISH
X-WR-CALNAME:Native Plant Society of Texas
X-ORIGINAL-URL:https://www.npsot.org
X-WR-CALDESC:Events for Native Plant Society of Texas
REFRESH-INTERVAL;VALUE=DURATION:PT1H
X-Robots-Tag:noindex
X-PUBLISHED-TTL:PT1H
BEGIN:VTIMEZONE
TZID:America/New_York
BEGIN:DAYLIGHT
TZOFFSETFROM:-0500
TZOFFSETTO:-0400
TZNAME:EDT
DTSTART:20230312T070000
END:DAYLIGHT
BEGIN:STANDARD
TZOFFSETFROM:-0400
TZOFFSETTO:-0500
TZNAME:EST
DTSTART:20231105T060000
END:STANDARD
BEGIN:DAYLIGHT
TZOFFSETFROM:-0500
TZOFFSETTO:-0400
TZNAME:EDT
DTSTART:20240310T070000
END:DAYLIGHT
BEGIN:STANDARD
TZOFFSETFROM:-0400
TZOFFSETTO:-0500
TZNAME:EST
DTSTART:20241103T060000
END:STANDARD
BEGIN:DAYLIGHT
TZOFFSETFROM:-0500
TZOFFSETTO:-0400
TZNAME:EDT
DTSTART:20250309T070000
END:DAYLIGHT
BEGIN:STANDARD
TZOFFSETFROM:-0400
TZOFFSETTO:-0500
TZNAME:EST
DTSTART:20251102T060000
END:STANDARD
END:VTIMEZONE
BEGIN:VTIMEZONE
TZID:America/Chicago
BEGIN:DAYLIGHT
TZOFFSETFROM:-0600
TZOFFSETTO:-0500
TZNAME:CDT
DTSTART:20230312T080000
END:DAYLIGHT
BEGIN:STANDARD
TZOFFSETFROM:-0500
TZOFFSETTO:-0600
TZNAME:CST
DTSTART:20231105T070000
END:STANDARD
BEGIN:DAYLIGHT
TZOFFSETFROM:-0600
TZOFFSETTO:-0500
TZNAME:CDT
DTSTART:20240310T080000
END:DAYLIGHT
BEGIN:STANDARD
TZOFFSETFROM:-0500
TZOFFSETTO:-0600
TZNAME:CST
DTSTART:20241103T070000
END:STANDARD
BEGIN:DAYLIGHT
TZOFFSETFROM:-0600
TZOFFSETTO:-0500
TZNAME:CDT
DTSTART:20250309T080000
END:DAYLIGHT
BEGIN:STANDARD
TZOFFSETFROM:-0500
TZOFFSETTO:-0600
TZNAME:CST
DTSTART:20251102T070000
END:STANDARD
END:VTIMEZONE
BEGIN:VEVENT
DTSTART;TZID=America/New_York:20240610T181500
DTEND;TZID=America/New_York:20240610T203000
DTSTAMP:20260423T173143
CREATED:20240607T204408Z
LAST-MODIFIED:20240607T205126Z
UID:10003150-1718043300-1718051400@www.npsot.org
SUMMARY:Pollinator Road Trip 3: A Habitat Grant Update\, Part 2 - Hybrid Clear Lake Chapter Meeting
DESCRIPTION:Please join us for our chapter meeting in person or online! \n\n\n\n6:15 Doors Opens – UHCL Bayou Building\, Room 13336:40 Zoom Opens6:45 Business Meeting6:55 Plant of the Month7:00 Guest Speakers \n\n\n\nFor June’s chapter meeting\, we continue on our virtual road trip to visit pollinator habitats funded by the chapter’s Native Pollinator Habitat Grant Program. You will hear from current projects at two sites: Ward Elementary Pollinator Garden at John F. Ward Elementary\, and Hometown Heroes Park in League City. In addition\, we will also have updates on previously funded projects that are currently thriving\, showcasing the continued impact and success of our grant program. \n\n\n\nAbout the Sites\n\n\n\nWard Elementary Pollinator Garden at John F. Ward Elementary (Clear Creek ISD): Ward’s school garden aims to serve as a safe haven and nursery for pollinators. And\, importantly\, will also provide context for teaching students and their families about the importance of pollinators and native plants. \n\n\n\nPollinator Garden at Hometown Heroes Park (League City): This Eagle Scout project\, located on the 5K Loop Trail at Hometown Heroes Park\, features plants that provide nectar and pollen sources to a wide range of pollinators\, including bees\, butterflies\, and hummingbirds. \n\n\n\nIn-person – Parking Pass Required\n\n\n\nIf you have a pass\, don’t forget it – you will not get another one if you picked one up previously. If you need a pass\, arrive early enough to pick one up in Room 1333 (meeting room) and to place it in your car. DO NOT park in faculty/staff parking (enforced 24/7). \n\n\n\nArrive early to socialize and enter your name in the drawing for the door prize. \n\n\n\nMap and Directions – The meeting will be held in Bayou Building Room 1333 at UHCL. \n\n\n\nUniversity of Houston-Clear Lake2700 Bay Area Blvd.Houston\, TX 77058 \n\n\n\nOnline – Zoom\n\n\n\nRegister in advance for this meeting. After registering\, you will receive a confirmation email containing information about joining the meeting. \n\n\n\n\n\n \n\n\n\nThis is a FREE EVENT. Meetings are open to members and non-members. If you would like to become a member\, you may join online. For more information about the Native Plant Society of Texas and the benefits of membership please visit: npsot.org. \n\n\n\nHosted by the Environmental Institute of Houston\, University of Houston-Clear Lake.
URL:https://www.npsot.org/event/pollinator-road-trip-3-a-habitat-grant-update-part-2-hybrid-clear-lake-chapter-meeting/
CATEGORIES:Chapter Meeting,Virtual
ATTACH;FMTTYPE=image/jpeg:https://www.npsot.org/wp-content/uploads/2024/06/clc-featured-image-0624-jpg.avif
END:VEVENT
BEGIN:VEVENT
DTSTART;TZID=America/Chicago:20240610T190000
DTEND;TZID=America/Chicago:20240610T200000
DTSTAMP:20260423T173143
CREATED:20240108T175104Z
LAST-MODIFIED:20240108T175105Z
UID:10002340-1718046000-1718049600@www.npsot.org
SUMMARY:Pines and Prairies NLCP Committee Meeting
DESCRIPTION:Dear NLCP Committee Members\,  \n\n\n\nThis Monday begins our first meeting of 2024. We will meet at 7:00pm on the 2nd and 4th Monday of the month on this Zoom link: \n\n\n\n https://npsot-org.zoom.us/j/87628189964?pwd=NUdBV3ZTSzFVMjJjTnpycjlQTGRJQT09.  \n\n\n\nWe’re a small committee\, and we don’t get to see each other in person very often\, so please plan to join with your camera on.  \n\n\n\nSee you Monday! \n\n\n\n— \n\n\n\nJay Gowen\, NLCP Chair\, Pines and Prairies Chapter\, 832-513-5785 (cell)
URL:https://www.npsot.org/event/pines-and-prairies-nlcp-committee-meeting/2024-06-10/
CATEGORIES:Committee Meeting
END:VEVENT
END:VCALENDAR