
BEGIN:VCALENDAR
VERSION:2.0
PRODID:-//Native Plant Society of Texas - ECPv6.15.20//NONSGML v1.0//EN
CALSCALE:GREGORIAN
METHOD:PUBLISH
X-WR-CALNAME:Native Plant Society of Texas
X-ORIGINAL-URL:https://www.npsot.org
X-WR-CALDESC:Events for Native Plant Society of Texas
REFRESH-INTERVAL;VALUE=DURATION:PT1H
X-Robots-Tag:noindex
X-PUBLISHED-TTL:PT1H
BEGIN:VTIMEZONE
TZID:America/Chicago
BEGIN:DAYLIGHT
TZOFFSETFROM:-0600
TZOFFSETTO:-0500
TZNAME:CDT
DTSTART:20230312T080000
END:DAYLIGHT
BEGIN:STANDARD
TZOFFSETFROM:-0500
TZOFFSETTO:-0600
TZNAME:CST
DTSTART:20231105T070000
END:STANDARD
BEGIN:DAYLIGHT
TZOFFSETFROM:-0600
TZOFFSETTO:-0500
TZNAME:CDT
DTSTART:20240310T080000
END:DAYLIGHT
BEGIN:STANDARD
TZOFFSETFROM:-0500
TZOFFSETTO:-0600
TZNAME:CST
DTSTART:20241103T070000
END:STANDARD
BEGIN:DAYLIGHT
TZOFFSETFROM:-0600
TZOFFSETTO:-0500
TZNAME:CDT
DTSTART:20250309T080000
END:DAYLIGHT
BEGIN:STANDARD
TZOFFSETFROM:-0500
TZOFFSETTO:-0600
TZNAME:CST
DTSTART:20251102T070000
END:STANDARD
END:VTIMEZONE
BEGIN:VEVENT
DTSTART;TZID=America/Chicago:20240615T090000
DTEND;TZID=America/Chicago:20240615T130000
DTSTAMP:20260423T154610
CREATED:20240329T224412Z
LAST-MODIFIED:20240329T224413Z
UID:10002944-1718442000-1718456400@www.npsot.org
SUMMARY:Denton County Master Gardener Association Fruit\, Vegetable\, Herb & Flower Show
DESCRIPTION:North Texas Fairgrounds\, 2217 N. Carroll Blvd.\, Denton \n\n\n\nThe Native Plant Society of Texas will be hosting a booth at this fun event. We’ll have information for you as well as knowledgeable volunteers to answer your questions. Please stop by and say “Hello.”  Happy gardening!
URL:https://www.npsot.org/event/denton-county-master-gardener-association-fruit-vegetable-herb-flower-show/
CATEGORIES:Community Outreach
ATTACH;FMTTYPE=image/jpeg:https://www.npsot.org/wp-content/uploads/2023/03/Trinity-Forks-Booth.jpg
END:VEVENT
BEGIN:VEVENT
DTSTART;TZID=America/Chicago:20240615T090000
DTEND;TZID=America/Chicago:20240615T230000
DTSTAMP:20260423T154610
CREATED:20240502T232256Z
LAST-MODIFIED:20240611T232240Z
UID:10003099-1718442000-1718492400@www.npsot.org
SUMMARY:Member Field Trip: Wood County Arboretum Tour
DESCRIPTION:NPSOT Members tour of the beautiful Wood County Arboretum.
URL:https://www.npsot.org/event/wood-county-arboretum-tour/
CATEGORIES:Field Trip
ATTACH;FMTTYPE=image/png:https://www.npsot.org/wp-content/uploads/2024/05/Wood-County-Arboretum.png
END:VEVENT
BEGIN:VEVENT
DTSTART;TZID=America/Chicago:20240615T093000
DTEND;TZID=America/Chicago:20240615T110000
DTSTAMP:20260423T154610
CREATED:20240605T192316Z
LAST-MODIFIED:20240605T192317Z
UID:10003146-1718443800-1718449200@www.npsot.org
SUMMARY:Prairie Commons Tour with Bill Nieman
DESCRIPTION:Sponsored by Native Plant Society of Texas – Trinity Forks Chapter \n\n\n\nOpen to the public.  Free! \n\n\n\nExplore the unique integration of over seventy-five native plant species within a commercial real estate development. You will observe firsthand how sustainable landscaping practices can enhance biodiversity\, conserve water\, and promote night sky-friendly lighting. Bill and Leslie from Native American Seeds will lead the tour and answer questions. \n\n\n\nPrairie Commons (https://www.prairie-commons.com/) exemplifies how commercial spaces can harmoniously coexist with nature\, promote environmental stewardship and enhance the quality of life for residents and visitors. \n\n\n\nYou will be inspired to incorporate native plants and sustainable practices into your own landscape. \n\n\n\nOnly 40 people can be accommodated for this tour. Please register at   https://forms.gle/NgYLzLBHeyqDthwc6 to reserve your spot!
URL:https://www.npsot.org/event/prairie-commons-tour-with-bill-nieman/
CATEGORIES:Field Trip
ATTACH;FMTTYPE=image/jpeg:https://www.npsot.org/wp-content/uploads/2024/06/Prairie-Commons-jpg.webp
END:VEVENT
END:VCALENDAR