
BEGIN:VCALENDAR
VERSION:2.0
PRODID:-//Native Plant Society of Texas - ECPv6.15.20//NONSGML v1.0//EN
CALSCALE:GREGORIAN
METHOD:PUBLISH
X-WR-CALNAME:Native Plant Society of Texas
X-ORIGINAL-URL:https://www.npsot.org
X-WR-CALDESC:Events for Native Plant Society of Texas
REFRESH-INTERVAL;VALUE=DURATION:PT1H
X-Robots-Tag:noindex
X-PUBLISHED-TTL:PT1H
BEGIN:VTIMEZONE
TZID:America/Chicago
BEGIN:DAYLIGHT
TZOFFSETFROM:-0600
TZOFFSETTO:-0500
TZNAME:CDT
DTSTART:20240310T080000
END:DAYLIGHT
BEGIN:STANDARD
TZOFFSETFROM:-0500
TZOFFSETTO:-0600
TZNAME:CST
DTSTART:20241103T070000
END:STANDARD
BEGIN:DAYLIGHT
TZOFFSETFROM:-0600
TZOFFSETTO:-0500
TZNAME:CDT
DTSTART:20250309T080000
END:DAYLIGHT
BEGIN:STANDARD
TZOFFSETFROM:-0500
TZOFFSETTO:-0600
TZNAME:CST
DTSTART:20251102T070000
END:STANDARD
BEGIN:DAYLIGHT
TZOFFSETFROM:-0600
TZOFFSETTO:-0500
TZNAME:CDT
DTSTART:20260308T080000
END:DAYLIGHT
BEGIN:STANDARD
TZOFFSETFROM:-0500
TZOFFSETTO:-0600
TZNAME:CST
DTSTART:20261101T070000
END:STANDARD
END:VTIMEZONE
BEGIN:VTIMEZONE
TZID:America/New_York
BEGIN:DAYLIGHT
TZOFFSETFROM:-0500
TZOFFSETTO:-0400
TZNAME:EDT
DTSTART:20240310T070000
END:DAYLIGHT
BEGIN:STANDARD
TZOFFSETFROM:-0400
TZOFFSETTO:-0500
TZNAME:EST
DTSTART:20241103T060000
END:STANDARD
BEGIN:DAYLIGHT
TZOFFSETFROM:-0500
TZOFFSETTO:-0400
TZNAME:EDT
DTSTART:20250309T070000
END:DAYLIGHT
BEGIN:STANDARD
TZOFFSETFROM:-0400
TZOFFSETTO:-0500
TZNAME:EST
DTSTART:20251102T060000
END:STANDARD
BEGIN:DAYLIGHT
TZOFFSETFROM:-0500
TZOFFSETTO:-0400
TZNAME:EDT
DTSTART:20260308T070000
END:DAYLIGHT
BEGIN:STANDARD
TZOFFSETFROM:-0400
TZOFFSETTO:-0500
TZNAME:EST
DTSTART:20261101T060000
END:STANDARD
END:VTIMEZONE
BEGIN:VEVENT
DTSTART;TZID=America/Chicago:20250329T080000
DTEND;TZID=America/Chicago:20250329T150000
DTSTAMP:20260420T132605
CREATED:20250131T211347Z
LAST-MODIFIED:20250131T211348Z
UID:10004670-1743235200-1743260400@www.npsot.org
SUMMARY:NLCP Nivel 1: Introduccíon a los Paisajes Nativos
DESCRIPTION:Location: San Antonio River Authority\, 100 E Guenther Street\, San Antonio\, TX 78204 \n\n\n\nDescription\n\n\n\nThis will be a pilot class to a limited audience. \n\n\n\nConozca los beneficios de las plantas nativas\, las plantas deseables para su área y las consideraciones de diseño para su jardín. NLCP es un programa estatal\, pero las clases se enfocan en las características y plantas de la región en la que se enseñan. Este programa fue diseñado por la Sociedad de Plantas Nativas de Texas para enseñar a las personas sobre el paisajismo de su jardín con plantas nativas. \n\n\n\nNivel 1 – Introducción a los Paisajes Nativos\n\n\n\n\nAprende el valor de incluir y preservar las plantas autóctonas en los paisajes\n\n\n\nComprender las diferencias entre el desarrollo sostenible y el convencional\n\n\n\nDescubra la ecorregión\, la vegetación y el suelo de Texas.\n\n\n\nFamiliarízate con 45 plantas nativas de Texas recomendadas para tu jardín y 5 plantas que debes evitar\n\n\n\n\nEl Nivel 1 es un requisito previo para los Niveles 2 y 3. El Nivel 1 no es necesario para el Nivel 4\, que se puede tomar como una clase independiente. Los Niveles 2\, 3 y 4 se pueden tomar en cualquier orden. \n\n\n\nEl Programa de Certificación de Paisajes Nativos (NLCP\, por sus siglas en Inglés) es un programa de certificación de cuatro niveles que enseña el valor de incluir y preservar plantas nativas en los paisajes. Las clases se centran en las características y plantas de la región en la que se enseñan. Por favor\, regístrese para las clases ubicadas en la región en la que desea ajardinar. ¡Mira esto! \n\n\n\nLEARN MORE AND REGISTER FEBRUARY 1 \n\n\n\nOrganizer: npsot.sanantonio@gmail.com \n\n\n\n \n\n\n\nOrganizer: npsot.sanantonio@gmail.com
URL:https://www.npsot.org/event/nlcp-nivel-1-introduccion-a-los-paisajes-nativos/
CATEGORIES:Workshops and Classes
END:VEVENT
BEGIN:VEVENT
DTSTART;TZID=America/New_York:20250329T081500
DTEND;TZID=America/New_York:20250329T133000
DTSTAMP:20260420T132605
CREATED:20250324T213309Z
LAST-MODIFIED:20250325T164512Z
UID:10005150-1743236100-1743255000@www.npsot.org
SUMMARY:Field Trip: Tour of Galveston Bay Foundation's EcoCenter & Turtle Bayou Property
DESCRIPTION:Saturday\, March 29 \n\n\n\n\n8:15 a.m. – Meet at the Environmental Institute of Houston for carpooling\n\n\n\n9:00 a.m. – Arrive at the EcoCenter; tour until 11:00 a.m.\n\n\n\n11:00 a.m. – Depart for Turtle Bayou parking lot\n\n\n\n11:30 a.m. – Arrive at Turtle Bayou; tour prairie area for 1–2 hours\n\n\n\n\n \n\n\n\nJoin us on Saturday\, March 29\, for a guided tour of the GBF EcoCenter with Carter Clay. Located northeast of Baytown\, this site has long been a hub for plant propagation and potting and is now expanding its efforts to include marsh restoration. \n\n\n\nCarter will lead a two-hour in-depth tour of the EcoCenter. Additionally\, he is offering to host a visit to the Galveston Bay Foundation’s Turtle Bayou property\, a lesser-known corridor rich in wildflowers. He describes the area as providing a unique perspective on the area’s prairie\, with a nearby exposed midden where indigenous hand tools have been discovered as recently as six months ago. This optional\, but highly recommended tour\, includes an additional 25-minute drive\, a 1/3-mile walk\, and a guided visit lasting 1–2 hours\, depending on the group’s interest. \n\n\n\nLunch will not be provided\, nor will it be easy to obtain. Bring your own lunch and water. There are no designated dining facilities\, so plan to eat on the hood of your car\, inside your vehicle\, or wherever is most convenient \n\n\n\nPlease register and submit a waiver by March 29. \n\n\n\n\n\nLocation – Directions to UHCL-EIHMeet at UHCL-EIH to carpoolParking lot D4 near UHCL Entrance 3
URL:https://www.npsot.org/event/field-trip-tour-of-galveston-bay-foundations-ecocenter-turtle-bayou-property/
CATEGORIES:Field Trip
ATTACH;FMTTYPE=image/png:https://www.npsot.org/wp-content/uploads/2025/03/clc-ecocenter-field-trip-png.avif
END:VEVENT
BEGIN:VEVENT
DTSTART;TZID=America/Chicago:20250329T090000
DTEND;TZID=America/Chicago:20250329T110000
DTSTAMP:20260420T132605
CREATED:20241206T172928Z
LAST-MODIFIED:20250308T055836Z
UID:10004346-1743238800-1743246000@www.npsot.org
SUMMARY:Field Trip: Warren Ranch Saline Barrens
DESCRIPTION:OLYMPUS DIGITAL CAMERA\n\n\n\nMeeting Location: Meet approximately 0.5 miles south of Matt Cook Memorial Wildlife Viewing Platform on Warren Ranch Road in northwestern Harris County. The gate for this location is north of the intersection of Warren Ranch Road and Jack Road. GPS coordinates are: 29.96934\, -95.84305 \n\n\n\nThings To Bring: Closed toe shoes and bug spray are recommended. Please bring adequate hydration and other items you may require to be comfortable. It is anticipated that we will be in full sun the entire time\, so dress appropriately. \n\n\n\nField Trip Overview: This field trip will be focused on seeing rare species endemic to saline barrens that occur on the Texas coastal prairie. Jason Singhurst (Texas Parks and Wildlife Department biologist) described these habitats as the pyramid dropseed (Sporobolus pyramidatus)\, bristle-seed sand-spurrey (Spergularia echinosperma)\, narrowleaf marsh elder (Iva angustifolia)\, and Texas prairie dawn (Hymenoxys texana) herbaceous vegetation community of the Houston Saline Prairie. There are several other unique species that we may find including Texas windmill grass (Chloris texensis) and Texas Willkommia (Willkommia texana). The below talk by the field trip leader on YouTube and paper by Singhurst are suggested reference material to review prior to field trip to help participants understand these unique systems. \n\n\n\nAdditional Flora Information: https://www.phytoneuron.net/2014Phytoneuron/19PhytoN-Hymenoxystexana.pdf \n\n\n\nField Trip Leader’s Talk About Saline Barrens: https://www.youtube.com/watch?v=YgbwKeKJwoI&t=1223s \n\n\n\nAdditional Site Information: https://www.coastalprairieconservancy.org/ \n\n\n\n\nRegistration required – click here\n\n\n\n\nWaiver to Fill Out: https://www.coastalprairieconservancy.org/waiver-of-liability-release-and-indemnity-and-media-release-form \n\n\n\nAdditional Coordination Details: Please contact Bob Romero for any further coordination details atbobromero@gmail.com or by phone at 713.248.6030.
URL:https://www.npsot.org/event/field-trip-warren-ranch-saline-barrens/
CATEGORIES:Field Trip
ATTACH;FMTTYPE=image/jpeg:https://www.npsot.org/wp-content/uploads/2024/12/Hymenoxys-texana-5-scaled.avif
END:VEVENT
BEGIN:VEVENT
DTSTART;TZID=America/Chicago:20250329T090000
DTEND;TZID=America/Chicago:20250329T120000
DTSTAMP:20260420T132605
CREATED:20250120T134255Z
LAST-MODIFIED:20250314T124401Z
UID:10004609-1743238800-1743249600@www.npsot.org
SUMMARY:NATIVE PLANT SALE IS HERE!
DESCRIPTION:Stay tuned for Post Oak Native Plant Society Annual Plant Sale! More details to come! \n\n\n\nPost Oak Chapter Plant Sale March 29\, 9am -noon. Come join us!
URL:https://www.npsot.org/event/coming-this-spring-native-plant-sale/
CATEGORIES:Plant Sale,Volunteer Opportunity
ATTACH;FMTTYPE=image/jpeg:https://www.npsot.org/wp-content/uploads/2025/01/PONPSOT-Native-Plant-Sale-Flyer-2025.avif
END:VEVENT
BEGIN:VEVENT
DTSTART;TZID=America/Chicago:20250329T100000
DTEND;TZID=America/Chicago:20250329T130000
DTSTAMP:20260420T132605
CREATED:20250127T181622Z
LAST-MODIFIED:20250129T221707Z
UID:10004646-1743242400-1743253200@www.npsot.org
SUMMARY:NPSOT Information Table at Good Earth Festival at Northern Hills UMC
DESCRIPTION:Volunteer to assist at the NPSOT information tabling at the Good Earth Festival at Northern Hills UMC.  One shift\, 10 am to 1 pm.  Two volunteers needed to work with lead.  AAMN approved.   \n\n\n\nTo register\, click here. 
URL:https://www.npsot.org/event/npsot-information-table-at-good-earth-festival-at-northern-hills-umc/
CATEGORIES:Volunteer Opportunity
END:VEVENT
END:VCALENDAR