
BEGIN:VCALENDAR
VERSION:2.0
PRODID:-//Native Plant Society of Texas - ECPv6.15.20//NONSGML v1.0//EN
CALSCALE:GREGORIAN
METHOD:PUBLISH
X-WR-CALNAME:Native Plant Society of Texas
X-ORIGINAL-URL:https://www.npsot.org
X-WR-CALDESC:Events for Native Plant Society of Texas
REFRESH-INTERVAL;VALUE=DURATION:PT1H
X-Robots-Tag:noindex
X-PUBLISHED-TTL:PT1H
BEGIN:VTIMEZONE
TZID:America/Chicago
BEGIN:DAYLIGHT
TZOFFSETFROM:-0600
TZOFFSETTO:-0500
TZNAME:CDT
DTSTART:20240310T080000
END:DAYLIGHT
BEGIN:STANDARD
TZOFFSETFROM:-0500
TZOFFSETTO:-0600
TZNAME:CST
DTSTART:20241103T070000
END:STANDARD
BEGIN:DAYLIGHT
TZOFFSETFROM:-0600
TZOFFSETTO:-0500
TZNAME:CDT
DTSTART:20250309T080000
END:DAYLIGHT
BEGIN:STANDARD
TZOFFSETFROM:-0500
TZOFFSETTO:-0600
TZNAME:CST
DTSTART:20251102T070000
END:STANDARD
BEGIN:DAYLIGHT
TZOFFSETFROM:-0600
TZOFFSETTO:-0500
TZNAME:CDT
DTSTART:20260308T080000
END:DAYLIGHT
BEGIN:STANDARD
TZOFFSETFROM:-0500
TZOFFSETTO:-0600
TZNAME:CST
DTSTART:20261101T070000
END:STANDARD
END:VTIMEZONE
BEGIN:VEVENT
DTSTART;TZID=America/Chicago:20251203T140000
DTEND;TZID=America/Chicago:20251203T153000
DTSTAMP:20260423T135517
CREATED:20250729T173609Z
LAST-MODIFIED:20251122T010248Z
UID:10005450-1764770400-1764775800@www.npsot.org
SUMMARY:Dec. 3 Lakes & Pines Chapter Meeting - Short Meeting/Elections followed by Holiday Social
DESCRIPTION:
URL:https://www.npsot.org/event/lakes-pines-chapter-meeting-short-meeting-elections-followed-by-holiday-social/
CATEGORIES:Chapter Meeting
ATTACH;FMTTYPE=image/png:https://www.npsot.org/wp-content/uploads/2025/10/2ba621cb-95a5-8bce-b267-4b53461ebcd0.avif
END:VEVENT
END:VCALENDAR