
BEGIN:VCALENDAR
VERSION:2.0
PRODID:-//Native Plant Society of Texas - ECPv6.15.20//NONSGML v1.0//EN
CALSCALE:GREGORIAN
METHOD:PUBLISH
X-ORIGINAL-URL:https://www.npsot.org
X-WR-CALDESC:Events for Native Plant Society of Texas
REFRESH-INTERVAL;VALUE=DURATION:PT1H
X-Robots-Tag:noindex
X-PUBLISHED-TTL:PT1H
BEGIN:VTIMEZONE
TZID:America/Chicago
BEGIN:DAYLIGHT
TZOFFSETFROM:-0600
TZOFFSETTO:-0500
TZNAME:CDT
DTSTART:20250309T080000
END:DAYLIGHT
BEGIN:STANDARD
TZOFFSETFROM:-0500
TZOFFSETTO:-0600
TZNAME:CST
DTSTART:20251102T070000
END:STANDARD
BEGIN:DAYLIGHT
TZOFFSETFROM:-0600
TZOFFSETTO:-0500
TZNAME:CDT
DTSTART:20260308T080000
END:DAYLIGHT
BEGIN:STANDARD
TZOFFSETFROM:-0500
TZOFFSETTO:-0600
TZNAME:CST
DTSTART:20261101T070000
END:STANDARD
BEGIN:DAYLIGHT
TZOFFSETFROM:-0600
TZOFFSETTO:-0500
TZNAME:CDT
DTSTART:20270314T080000
END:DAYLIGHT
BEGIN:STANDARD
TZOFFSETFROM:-0500
TZOFFSETTO:-0600
TZNAME:CST
DTSTART:20271107T070000
END:STANDARD
END:VTIMEZONE
BEGIN:VEVENT
DTSTART;TZID=America/Chicago:20260310T090000
DTEND;TZID=America/Chicago:20260310T110000
DTSTAMP:20260423T065407
CREATED:20260416T023114Z
LAST-MODIFIED:20260416T023116Z
UID:10007125-1773133200-1773140400@www.npsot.org
SUMMARY:Tuesday Workday at EIH
DESCRIPTION:Learn how to propagate native plants while helping grow plants for the chapter’s plant sales. Activities include starting plants from seeds\, cuttings\, and other methods\, as well as making labels\, mixing soil\, and prepping growing trays. \n\n\n\nHabitat volunteers may also help weed and mulch flower beds\, plant native plants\, maintain pathways\, and trim trees and bushes. \n\n\n\n\nNo experience necessary\n\n\n\nBring your own tools or use ours (we have gloves too)\n\n\n\nDon’t forget to bring a reusable water bottle\, hat\, and sunscreen!\n\n\n\n\nVolunteers must be 18 or older to participate in EIH’s workdays unless prior arrangements have been made. \n\n\n\nWe do not hold workdays when the university is officially closed. Also\, workdays are canceled during inclement weather\, though a light sprinkle or drizzle rarely keeps us out of the garden. If you’re not sure\, please call 281-283-3950 or 281-283-3045\, and we’ll let you know if we’re digging in. \n\n\n\nLocationEnvironmental Institute of Houston (Click link for Google Map)University of Houston-Clear LakeNorth Office Annex (NOA) 1 Building2700 Bay Area Blvd.
URL:https://www.npsot.org/event/tuesday-workday-at-eih/2026-03-10/
CATEGORIES:Volunteer Opportunity,Workday
ATTACH;FMTTYPE=image/jpeg:https://www.npsot.org/wp-content/uploads/2024/09/clc-featured-image-hwd-jpg.avif
END:VEVENT
BEGIN:VEVENT
DTSTART;TZID=America/Chicago:20260310T093000
DTEND;TZID=America/Chicago:20260310T120000
DTSTAMP:20260423T065407
CREATED:20241011T195558Z
LAST-MODIFIED:20241024T161459Z
UID:10004084-1773135000-1773144000@www.npsot.org
SUMMARY:Lindheimer Chapter Board Meeting
DESCRIPTION:The members of the Board meet the second Tuesday of each month at the Tye Preston Memorial Library in the Founder’s Room.
URL:https://www.npsot.org/event/lindheimer-chapter-board-meeting/2026-03-10/
CATEGORIES:Board Meeting
ATTACH;FMTTYPE=image/png:https://www.npsot.org/wp-content/uploads/2024/10/Board-Meeting-flyer-png.avif
END:VEVENT
BEGIN:VEVENT
DTSTART;TZID=America/Chicago:20260310T190000
DTEND;TZID=America/Chicago:20260310T200000
DTSTAMP:20260423T065407
CREATED:20230905T041714Z
LAST-MODIFIED:20230905T042216Z
UID:10002076-1773169200-1773172800@www.npsot.org
SUMMARY:NPSOT Website Committee
DESCRIPTION:Open to any members who help manage content on their chapter or committee website.No registration required. \n\n\n\nJoin Zoom Meeting \n\n\n\nMeeting ID: 897 7771 6314Passcode: &dscT=3F
URL:https://www.npsot.org/event/npsot-website-committee-4/2026-03-10/
CATEGORIES:Committee Meeting
END:VEVENT
END:VCALENDAR