
BEGIN:VCALENDAR
VERSION:2.0
PRODID:-//Native Plant Society of Texas - ECPv6.15.20//NONSGML v1.0//EN
CALSCALE:GREGORIAN
METHOD:PUBLISH
X-WR-CALNAME:Native Plant Society of Texas
X-ORIGINAL-URL:https://www.npsot.org
X-WR-CALDESC:Events for Native Plant Society of Texas
REFRESH-INTERVAL;VALUE=DURATION:PT1H
X-Robots-Tag:noindex
X-PUBLISHED-TTL:PT1H
BEGIN:VTIMEZONE
TZID:America/Chicago
BEGIN:DAYLIGHT
TZOFFSETFROM:-0600
TZOFFSETTO:-0500
TZNAME:CDT
DTSTART:20250309T080000
END:DAYLIGHT
BEGIN:STANDARD
TZOFFSETFROM:-0500
TZOFFSETTO:-0600
TZNAME:CST
DTSTART:20251102T070000
END:STANDARD
BEGIN:DAYLIGHT
TZOFFSETFROM:-0600
TZOFFSETTO:-0500
TZNAME:CDT
DTSTART:20260308T080000
END:DAYLIGHT
BEGIN:STANDARD
TZOFFSETFROM:-0500
TZOFFSETTO:-0600
TZNAME:CST
DTSTART:20261101T070000
END:STANDARD
BEGIN:DAYLIGHT
TZOFFSETFROM:-0600
TZOFFSETTO:-0500
TZNAME:CDT
DTSTART:20270314T080000
END:DAYLIGHT
BEGIN:STANDARD
TZOFFSETFROM:-0500
TZOFFSETTO:-0600
TZNAME:CST
DTSTART:20271107T070000
END:STANDARD
END:VTIMEZONE
BEGIN:VEVENT
DTSTART;TZID=America/Chicago:20260424T000000
DTEND;TZID=America/Chicago:20260427T235959
DTSTAMP:20260425T090740
CREATED:20250514T233001Z
LAST-MODIFIED:20260129T220209Z
UID:10005197-1776988800-1777334399@www.npsot.org
SUMMARY:iNaturalist City Nature Challenge 2026
DESCRIPTION:Join the iNaturalist Project here! \n\n\n\nMark your calendars! From April 24–27\, 2026\, San Antonio will join cities around the globe in a wild celebration of biodiversity\, curiosity\, and community science. \n\n\n\n\n\n\n\nCity Nature Challenge is a fun\, competitive way to see which city can make the most observations of local flora and fauna during the City Nature Challenge\, April 24-27\, 2026. \n\n\n\nThe City Nature Challenge began in 2016 as a friendly rivalry between San Francisco and Los Angeles. That first year\, LA took the win with 10\,352 observations\, 1\,601 species\, and 574 participants. Since then\, the challenge has blossomed into a global movement — with cities from every continent documenting the wild life that lives alongside us. \n\n\n\n🌼 Why It Matters \n\n\n\nEvery observation helps scientists understand and protect our ecosystems. It’s also a chance to slow down\, reconnect\, and remember that we are part of nature — not separate from it. \n\n\n\nLet’s show the world what San Antonio’s wild heart looks like. Let’s walk gently\, notice deeply\, and upload with joy. \n\n\n\nJoin the iNaturalist Project here!
URL:https://www.npsot.org/event/inaturalist-city-nature-challenge-2026/
CATEGORIES:Field Trip,Social Event,Virtual,Volunteer Opportunity
END:VEVENT
BEGIN:VEVENT
DTSTART;TZID=America/Chicago:20260425T000000
DTEND;TZID=America/Chicago:20260425T235959
DTSTAMP:20260425T090740
CREATED:20260326T020655Z
LAST-MODIFIED:20260326T020656Z
UID:10006716-1777075200-1777161599@www.npsot.org
SUMMARY:Texas Wildflower Day
DESCRIPTION:https://www.npsot.org/our-work/texas-wildflower-day/
URL:https://www.npsot.org/event/texas-wildflower-day-3/
END:VEVENT
BEGIN:VEVENT
DTSTART;TZID=America/Chicago:20260425T080000
DTEND;TZID=America/Chicago:20260425T120000
DTSTAMP:20260425T090740
CREATED:20260316T194734Z
LAST-MODIFIED:20260316T194735Z
UID:10006685-1777104000-1777118400@www.npsot.org
SUMMARY:Landscaping With Natives 101
DESCRIPTION:At the Headwaters of the Comal 333 E. Klingmann St.
URL:https://www.npsot.org/event/landscaping-with-natives-101-2/
END:VEVENT
BEGIN:VEVENT
DTSTART;TZID=America/Chicago:20260425T090000
DTEND;TZID=America/Chicago:20260425T110000
DTSTAMP:20260425T090740
CREATED:20260305T034016Z
LAST-MODIFIED:20260305T034017Z
UID:10006537-1777107600-1777114800@www.npsot.org
SUMMARY:Chandor Nature Trail "Spruce Up"\, Volunteer Opportunity\, Cross Timbers Chapter\, Weatherford\, Saturday\, 04/25/2026 at 9 a.m.
DESCRIPTION:Spruce Up Days\n\n\n\n\n\nPlease join us for the Chandor Nature Trail “Spruce Up” volunteer day from 9 a.m. to 11 a.m.  Late comers are welcome. Interested volunteers can contact Cross Timbers trail steward Christie Tull\, at greenwoodfarminc@aol.com or call 817-307-9307.  See you on the trail! \n\n\n\nIf you can’t do manual labor be an education liason – community service volunteers need guidance to introduce them to the nature trail’s needs and to help identify plants. You can play an important role helping educate and supervising the volunteers.  \n\n\n\nVolunteer hours count towards Texas Master Naturalist and Texas Master Gardeners. \n\n\n\nAbout the Nature Trail\n\n\n\nChandor Nature Trail is just under one mile long and is open for hikers and their leashed dogs free of charge during Chandor Garden hours. The Garden’s address is 711 W Lee Street in Weatherford.  
URL:https://www.npsot.org/event/chandor-nature-trail-spruce-up-volunteer-opportunity-cross-timbers-chapter-weatherford-saturday-04-25-2026-at-9-a-m/
CATEGORIES:Volunteer Opportunity,Workday
ATTACH;FMTTYPE=image/jpeg:https://www.npsot.org/wp-content/uploads/2025/03/CHANDOR-SPRUCE-UP.avif
END:VEVENT
BEGIN:VEVENT
DTSTART;TZID=America/Chicago:20260425T090000
DTEND;TZID=America/Chicago:20260425T120000
DTSTAMP:20260425T090740
CREATED:20260121T215653Z
LAST-MODIFIED:20260121T215654Z
UID:10006268-1777107600-1777118400@www.npsot.org
SUMMARY:CNC 2026 San Antonio River Authority iNat @ TrueHeart Ranch
DESCRIPTION:Location: Trueheart Ranch Nature Park\, 14984 Blue Wing Road\, San Antonio\, TX 78221 \n\n\n\nCity Nature Challenge BioBlitz eventThe San Antonio River Authority invites you to a City Nature Challenge 2026 Bioblitz event at Trueheart Ranch Nature Park! Guided by SARA’s Staff and River Warriors. This hidden gem features 351 acres of pecan orchards\, grazing lands\, and riparian woodlands along the scenic San Antonio River. With trails like the Acequia Trail and Yucca Trail to explore\, it’s the perfect place to connect with nature and contribute to Citizen Science. Meet by the Casa Vieja (“The Old House”) RSVP Required Email volunteer@sariverauthority.org to reserve your spot! What to Bring: Comfortable walking shoes\, Water\, A hat\, your smartphone with inat. app. and/or camera to document observations. The walk will be led by SARA staff and River Warriors\, who will guide you in discovering and documenting the park’s natural wonders. Whether you’re a seasoned naturalist or just curious about the world around you\, this is a fantastic opportunity to contribute to the CNC 2026 while enjoying a morning immersed in nature.”
URL:https://www.npsot.org/event/cnc-2026-san-antonio-river-authority-inat-trueheart-ranch/
CATEGORIES:BioBlitz,City Nature Challenge,Community Outreach
END:VEVENT
BEGIN:VEVENT
DTSTART;TZID=America/Chicago:20260425T090000
DTEND;TZID=America/Chicago:20260425T143000
DTSTAMP:20260425T090740
CREATED:20251214T212335Z
LAST-MODIFIED:20260410T233933Z
UID:10006296-1777107600-1777127400@www.npsot.org
SUMMARY:Wildflower Days at TWU
DESCRIPTION:Workshops \n\n\n\nComposting \n\n\n\nWalk & Talk – Plant-Pollinator Interactions  \n\n\n\nWatercolor Workshop & Kids Activities \n\n\n\nTour of the Carroll Abbott Wildflower Sanctuary & the Dr. Bettye Myers Butterfly Gardens \n\n\n\nFollow the QR Code on the summary Event page for details and to register. \n\n\n\n \n\n\n\n \n\n\n\nOpen to the public.
URL:https://www.npsot.org/event/program-and-short-business-meeting-3/
CATEGORIES:Business Meeting,Chapter Meeting,Hybrid chapter meeting
ATTACH;FMTTYPE=image/jpeg:https://www.npsot.org/wp-content/uploads/2026/01/Wildflower-Days-at-TWU.avif
END:VEVENT
BEGIN:VEVENT
DTSTART;TZID=America/Chicago:20260425T100000
DTEND;TZID=America/Chicago:20260425T140000
DTSTAMP:20260425T090740
CREATED:20260408T161801Z
LAST-MODIFIED:20260408T161804Z
UID:10006981-1777111200-1777125600@www.npsot.org
SUMMARY:Plant Sale and NLCP Level 1 Class
DESCRIPTION:Our Spring 2026 plant sale will be held on the back porch of the Tye Preston Memorial Library on April 25 in conjunction with the NLCP Class 1.  The library is located at 16311 South Access Rd\, Canyon Lake\, TX 78133.  Cash\, checks\, debit/credit cards accepted.
URL:https://www.npsot.org/event/plant-sale-and-nlcp-level-1-class/
ATTACH;FMTTYPE=image/jpeg:https://www.npsot.org/wp-content/uploads/2025/12/PlantSale8-scaled.avif
END:VEVENT
END:VCALENDAR