
BEGIN:VCALENDAR
VERSION:2.0
PRODID:-//Native Plant Society of Texas - ECPv6.15.20//NONSGML v1.0//EN
CALSCALE:GREGORIAN
METHOD:PUBLISH
X-ORIGINAL-URL:https://www.npsot.org
X-WR-CALDESC:Events for Native Plant Society of Texas
REFRESH-INTERVAL;VALUE=DURATION:PT1H
X-Robots-Tag:noindex
X-PUBLISHED-TTL:PT1H
BEGIN:VTIMEZONE
TZID:America/Chicago
BEGIN:DAYLIGHT
TZOFFSETFROM:-0600
TZOFFSETTO:-0500
TZNAME:CDT
DTSTART:20240310T080000
END:DAYLIGHT
BEGIN:STANDARD
TZOFFSETFROM:-0500
TZOFFSETTO:-0600
TZNAME:CST
DTSTART:20241103T070000
END:STANDARD
BEGIN:DAYLIGHT
TZOFFSETFROM:-0600
TZOFFSETTO:-0500
TZNAME:CDT
DTSTART:20250309T080000
END:DAYLIGHT
BEGIN:STANDARD
TZOFFSETFROM:-0500
TZOFFSETTO:-0600
TZNAME:CST
DTSTART:20251102T070000
END:STANDARD
BEGIN:DAYLIGHT
TZOFFSETFROM:-0600
TZOFFSETTO:-0500
TZNAME:CDT
DTSTART:20260308T080000
END:DAYLIGHT
BEGIN:STANDARD
TZOFFSETFROM:-0500
TZOFFSETTO:-0600
TZNAME:CST
DTSTART:20261101T070000
END:STANDARD
END:VTIMEZONE
BEGIN:VEVENT
DTSTART;TZID=America/Chicago:20250701T190000
DTEND;TZID=America/Chicago:20250701T200000
DTSTAMP:20260425T090719
CREATED:20240418T194626Z
LAST-MODIFIED:20240418T194856Z
UID:10003043-1751396400-1751400000@www.npsot.org
SUMMARY:NPSOT-Houston Board Meeting
DESCRIPTION:The Houston chapter is always looking for dedicated volunteers who are passionate about the native plant mission in their city. Join our team to participate in important habitat\, outreach\, and planning efforts the support our mission. Anyone is welcome to attend our board meetings on zoom. We would love to have you join one of our committees and start the fun and rewarding work that goes into our various projects. \n\n\n\nWe use Slack to organize and communicate. Please email us at nphouston1@gmail.com for the slack link.  \n\n\n\nMeeting ID: 845 237 64852Passcode: monarch \n\n\n\n\n\nReturn to Houston Chapter Page
URL:https://www.npsot.org/event/may-npsot-houston-board-meeting/2025-07-01/
CATEGORIES:Board Meeting
ATTACH;FMTTYPE=image/png:https://www.npsot.org/wp-content/uploads/2022/10/npsot_houston.png
ORGANIZER;CN="reba wiles":MAILTO:rwiles104@gmail.com
END:VEVENT
BEGIN:VEVENT
DTSTART;TZID=America/Chicago:20250708T093000
DTEND;TZID=America/Chicago:20250708T120000
DTSTAMP:20260425T090719
CREATED:20241011T195558Z
LAST-MODIFIED:20241024T161459Z
UID:10004076-1751967000-1751976000@www.npsot.org
SUMMARY:Lindheimer Chapter Board Meeting
DESCRIPTION:The members of the Board meet the second Tuesday of each month at the Tye Preston Memorial Library in the Founder’s Room.
URL:https://www.npsot.org/event/lindheimer-chapter-board-meeting/2025-07-08/
CATEGORIES:Board Meeting
ATTACH;FMTTYPE=image/png:https://www.npsot.org/wp-content/uploads/2024/10/Board-Meeting-flyer-png.avif
END:VEVENT
BEGIN:VEVENT
DTSTART;TZID=America/Chicago:20250715T140000
DTEND;TZID=America/Chicago:20250715T160000
DTSTAMP:20260425T090719
CREATED:20250311T203131Z
LAST-MODIFIED:20250311T203132Z
UID:10005137-1752588000-1752595200@www.npsot.org
SUMMARY:Fredericksburg Board of Directors plans for upcoming events.
DESCRIPTION:Plans for upcoming events and membership involvement is the focus for the March meeting of the Board of Directors. Included will be the dates for the Fall Plant Sale as well as the progress for the Spring sale. Field Trip plans. Members are invited. Ask a current board member for location.
URL:https://www.npsot.org/event/fredericksburg-board-of-directors-plans-for-upcoming-events/2025-07-15/
CATEGORIES:Board Meeting,Business Meeting
END:VEVENT
BEGIN:VEVENT
DTSTART;TZID=America/Chicago:20250715T190000
DTEND;TZID=America/Chicago:20250715T210000
DTSTAMP:20260425T090719
CREATED:20250109T185213Z
LAST-MODIFIED:20250515T173607Z
UID:10004589-1752606000-1752613200@www.npsot.org
SUMMARY:Executive Committee Meeting – July 15
DESCRIPTION:Native Plant Society of Texas (NPSOT) Executive Committee meetings occur monthly and any member may attend. Contact the Executive Director prior to the meeting at state@npsot.org for Zoom and applicable document links. Please be prepared to follow the Visitor’s Executive Meeting Protocol.
URL:https://www.npsot.org/event/executive-committee-meeting-july-9/
CATEGORIES:Board Meeting,Virtual
END:VEVENT
END:VCALENDAR