
BEGIN:VCALENDAR
VERSION:2.0
PRODID:-//Native Plant Society of Texas - ECPv6.15.20//NONSGML v1.0//EN
CALSCALE:GREGORIAN
METHOD:PUBLISH
X-WR-CALNAME:Native Plant Society of Texas
X-ORIGINAL-URL:https://www.npsot.org
X-WR-CALDESC:Events for Native Plant Society of Texas
REFRESH-INTERVAL;VALUE=DURATION:PT1H
X-Robots-Tag:noindex
X-PUBLISHED-TTL:PT1H
BEGIN:VTIMEZONE
TZID:America/Chicago
BEGIN:DAYLIGHT
TZOFFSETFROM:-0600
TZOFFSETTO:-0500
TZNAME:CDT
DTSTART:20240310T080000
END:DAYLIGHT
BEGIN:STANDARD
TZOFFSETFROM:-0500
TZOFFSETTO:-0600
TZNAME:CST
DTSTART:20241103T070000
END:STANDARD
BEGIN:DAYLIGHT
TZOFFSETFROM:-0600
TZOFFSETTO:-0500
TZNAME:CDT
DTSTART:20250309T080000
END:DAYLIGHT
BEGIN:STANDARD
TZOFFSETFROM:-0500
TZOFFSETTO:-0600
TZNAME:CST
DTSTART:20251102T070000
END:STANDARD
BEGIN:DAYLIGHT
TZOFFSETFROM:-0600
TZOFFSETTO:-0500
TZNAME:CDT
DTSTART:20260308T080000
END:DAYLIGHT
BEGIN:STANDARD
TZOFFSETFROM:-0500
TZOFFSETTO:-0600
TZNAME:CST
DTSTART:20261101T070000
END:STANDARD
END:VTIMEZONE
BEGIN:VEVENT
DTSTART;TZID=America/Chicago:20250605T180000
DTEND;TZID=America/Chicago:20250605T193000
DTSTAMP:20260425T105303
CREATED:20250505T110730Z
LAST-MODIFIED:20250505T110731Z
UID:10005184-1749146400-1749151800@www.npsot.org
SUMMARY:Join us for our Chapter Meeting June 5th\, "Monarch Waystations for Texas" by Carol Clark
DESCRIPTION:June 5th chapter meeting “Monarch Waystations for Texas”\n\n\n\n\n\nJune 5th chapter meeting “Monarch Waystations for Texas” presented by Carol Clark\, Gary Halter Nature Center at Lick Creek Park. 6pm Meet and Greet- Come visit and have some snacks! 6:30pm- 7:30pm- presentation.
URL:https://www.npsot.org/event/join-us-for-our-chapter-meeting-june-5th-monarch-waystations-for-texas-by-carol-clark/
CATEGORIES:Chapter Meeting
ATTACH;FMTTYPE=image/jpeg:https://www.npsot.org/wp-content/uploads/2025/04/June-5-2025-Flyer.avif
END:VEVENT
BEGIN:VEVENT
DTSTART;TZID=America/Chicago:20250605T183000
DTEND;TZID=America/Chicago:20250605T203000
DTSTAMP:20260425T105303
CREATED:20241213T144617Z
LAST-MODIFIED:20250508T131731Z
UID:10004364-1749148200-1749155400@www.npsot.org
SUMMARY:Derek and Angela Carroll\, Native Gardeners\, Making & Enjoying Tea with Native Plants\, North Central Chapter Meeting
DESCRIPTION:Learn about which native plants in your garden can be used to make herbal and caffeinated tea. We’ll learn the basic steps of drying the plants and which parts of the plants can be used. Then we’ll share recommended tea brewing methods and enjoy samples. \n\n\n\nDerek and Angela will be your hosts. In addition to being tea enthusiasts\, Derek is a co-owner of Native Gardeners\, and Angela is the lead designer.  \n\n\n\n\n\n\n\nFort Worth Botanic Garden\, Iris & Orchid Room \n\n\n\n\n3220 Botanic Garden Blvd\, Fort Worth\, Texas 76107 \n\n\n\n6:30 Socializing and snacks \n\n\n\n7:00 Business meeting and announcements \n\n\n\nThe presentation will follow our business meeting. \n\n\n\n\n\n\nThis meeting is hybrid; in person with a virtual Zoom option. \n\n\nAdvance registration is required to receive the Zoom link:  Zoom Registration \nAfter registering\, you will receive a confirmation email containing information about joining the meeting.
URL:https://www.npsot.org/event/native-gardeners-making-tea-with-native-plants-north-central-chapter-meeting/
CATEGORIES:Chapter Meeting,Virtual
END:VEVENT
END:VCALENDAR