
BEGIN:VCALENDAR
VERSION:2.0
PRODID:-//Native Plant Society of Texas - ECPv6.15.20//NONSGML v1.0//EN
CALSCALE:GREGORIAN
METHOD:PUBLISH
X-WR-CALNAME:Native Plant Society of Texas
X-ORIGINAL-URL:https://www.npsot.org
X-WR-CALDESC:Events for Native Plant Society of Texas
REFRESH-INTERVAL;VALUE=DURATION:PT1H
X-Robots-Tag:noindex
X-PUBLISHED-TTL:PT1H
BEGIN:VTIMEZONE
TZID:America/Chicago
BEGIN:DAYLIGHT
TZOFFSETFROM:-0600
TZOFFSETTO:-0500
TZNAME:CDT
DTSTART:20250309T080000
END:DAYLIGHT
BEGIN:STANDARD
TZOFFSETFROM:-0500
TZOFFSETTO:-0600
TZNAME:CST
DTSTART:20251102T070000
END:STANDARD
BEGIN:DAYLIGHT
TZOFFSETFROM:-0600
TZOFFSETTO:-0500
TZNAME:CDT
DTSTART:20260308T080000
END:DAYLIGHT
BEGIN:STANDARD
TZOFFSETFROM:-0500
TZOFFSETTO:-0600
TZNAME:CST
DTSTART:20261101T070000
END:STANDARD
BEGIN:DAYLIGHT
TZOFFSETFROM:-0600
TZOFFSETTO:-0500
TZNAME:CDT
DTSTART:20270314T080000
END:DAYLIGHT
BEGIN:STANDARD
TZOFFSETFROM:-0500
TZOFFSETTO:-0600
TZNAME:CST
DTSTART:20271107T070000
END:STANDARD
END:VTIMEZONE
BEGIN:VTIMEZONE
TZID:America/New_York
BEGIN:DAYLIGHT
TZOFFSETFROM:-0500
TZOFFSETTO:-0400
TZNAME:EDT
DTSTART:20250309T070000
END:DAYLIGHT
BEGIN:STANDARD
TZOFFSETFROM:-0400
TZOFFSETTO:-0500
TZNAME:EST
DTSTART:20251102T060000
END:STANDARD
BEGIN:DAYLIGHT
TZOFFSETFROM:-0500
TZOFFSETTO:-0400
TZNAME:EDT
DTSTART:20260308T070000
END:DAYLIGHT
BEGIN:STANDARD
TZOFFSETFROM:-0400
TZOFFSETTO:-0500
TZNAME:EST
DTSTART:20261101T060000
END:STANDARD
BEGIN:DAYLIGHT
TZOFFSETFROM:-0500
TZOFFSETTO:-0400
TZNAME:EDT
DTSTART:20270314T070000
END:DAYLIGHT
BEGIN:STANDARD
TZOFFSETFROM:-0400
TZOFFSETTO:-0500
TZNAME:EST
DTSTART:20271107T060000
END:STANDARD
END:VTIMEZONE
BEGIN:VEVENT
DTSTART;TZID=America/Chicago:20260328T090000
DTEND;TZID=America/Chicago:20260328T120000
DTSTAMP:20260420T113350
CREATED:20260203T135803Z
LAST-MODIFIED:20260318T153756Z
UID:10006307-1774688400-1774699200@www.npsot.org
SUMMARY:NATIVE PLANT SALE IS NEAR!
DESCRIPTION:Post Oak Native Plant Society Annual Plant Sale is near!  \n\n\n\n\n\n\n\n\n\nGet your wagons ready or whatever it is you carry plants in\, because our annual spring plant sale is coming to Lick Creek Park! March 28 2026 at 9:00 am – 12:00 pm or until sold out. \n\n\n\nWe will try to have some of the species names available emailed to y’all the week of the sale.  \n\n\n\nRight now\, due to high demand for milkweeds for those struggling  Monarchs\, we are planning on several flats of A. tuberosa milkweeds in 4″ pots from our vendor at Brushwolf Prairies\, so be sure to come early\, not late if you want to get some!  \n\n\n\nOverflow parking in Lick Creek Park’s Equestrian Lot.
URL:https://www.npsot.org/event/native-plant-sale-is-near/
CATEGORIES:Plant Sale
ATTACH;FMTTYPE=image/jpeg:https://www.npsot.org/wp-content/uploads/2026/01/2026-Native-plant-sale-website-1.avif
END:VEVENT
BEGIN:VEVENT
DTSTART;TZID=America/New_York:20260328T110000
DTEND;TZID=America/New_York:20260328T150000
DTSTAMP:20260420T113350
CREATED:20260324T003352Z
LAST-MODIFIED:20260324T004046Z
UID:10006702-1774695600-1774710000@www.npsot.org
SUMMARY:H-E-B Texas Native Plant Celebration
DESCRIPTION:This spring\, H-E-B stores across Texas are offering a colorful selection of native plants. Volunteers from our chapter will be tabling at the stores below. Stop by to ask your native plant questions\, get tips for your yard\, and pick up a free wildflower seed packet from the Texas Parks and Wildlife Foundation. \n\n\n\nFind us here:Clear Lake Marketplace H‑E‑B – 3501 Clear Lake City Blvd.March 28 – 11 am – 3 pmNarch 29 – 12 – 4 pm \n\n\n\nThe seed mixes were selected by NPSOT to best fit our local ecoregion. Come say hello and grow something great for pollinators and wildlife!
URL:https://www.npsot.org/event/h-e-b-texas-native-plant-celebration/
CATEGORIES:Community Outreach,Plant Sale
ATTACH;FMTTYPE=image/jpeg:https://www.npsot.org/wp-content/uploads/2026/03/clc-h-e-b-native-plant-celebration.avif
END:VEVENT
END:VCALENDAR