
BEGIN:VCALENDAR
VERSION:2.0
PRODID:-//Native Plant Society of Texas - ECPv6.15.20//NONSGML v1.0//EN
CALSCALE:GREGORIAN
METHOD:PUBLISH
X-WR-CALNAME:Native Plant Society of Texas
X-ORIGINAL-URL:https://www.npsot.org
X-WR-CALDESC:Events for Native Plant Society of Texas
REFRESH-INTERVAL;VALUE=DURATION:PT1H
X-Robots-Tag:noindex
X-PUBLISHED-TTL:PT1H
BEGIN:VTIMEZONE
TZID:America/Chicago
BEGIN:DAYLIGHT
TZOFFSETFROM:-0600
TZOFFSETTO:-0500
TZNAME:CDT
DTSTART:20250309T080000
END:DAYLIGHT
BEGIN:STANDARD
TZOFFSETFROM:-0500
TZOFFSETTO:-0600
TZNAME:CST
DTSTART:20251102T070000
END:STANDARD
BEGIN:DAYLIGHT
TZOFFSETFROM:-0600
TZOFFSETTO:-0500
TZNAME:CDT
DTSTART:20260308T080000
END:DAYLIGHT
BEGIN:STANDARD
TZOFFSETFROM:-0500
TZOFFSETTO:-0600
TZNAME:CST
DTSTART:20261101T070000
END:STANDARD
BEGIN:DAYLIGHT
TZOFFSETFROM:-0600
TZOFFSETTO:-0500
TZNAME:CDT
DTSTART:20270314T080000
END:DAYLIGHT
BEGIN:STANDARD
TZOFFSETFROM:-0500
TZOFFSETTO:-0600
TZNAME:CST
DTSTART:20271107T070000
END:STANDARD
END:VTIMEZONE
BEGIN:VEVENT
DTSTART;TZID=America/Chicago:20260420T190000
DTEND;TZID=America/Chicago:20260420T200000
DTSTAMP:20260424T072933
CREATED:20260405T051839Z
LAST-MODIFIED:20260407T031615Z
UID:10006799-1776711600-1776715200@www.npsot.org
SUMMARY:Dallas April Mtg - Collecting Native Seeds
DESCRIPTION:Join us Gaston Christian Center (map) for our monthly meeting. Come anytime after 6:30 p.m. to visit with your fellow Native Plant enthusiasts. Join us in person or via Zoom (Zoom details below). After the meeting\, join us at Gabriela & Sofia’s Tex-Mex for dinner and/or drinks. 10455 N Central Expressway\, Suite #117\, Dallas\, TX 75230 (map) \n\n\n\nCraig Bruska\, will speak to us about Collecting Native Seeds: \n\n\n\nSeed knowledge\, seed collecting ethics\, identify when seeds are ripe\, cleaning seeds\, when to plant seeds\, and seed storage. \n\n\n\nCraig Bruska has had a lifelong love of nature from visiting scores of National Parks across the country on family vacations.   During his 40-year career in construction\, engineering\, and facilities management he worked for eight years working for the Lake County (IL) Forest Preserve District overseeing the maintenance and construction of over 100 miles of multi-use county wide trails in the 35\,000 acre preserve system.  He oversaw the restoration over 1\,000 acres of wetlands by removing field tiles.  His crews battled invasive species from European Buckthorn to Purple Loosestrife.  Since moving to Texas in 2019 and settling into New Braunfels in 2020 he has worked to learn the plants of the Blackland Prairie and Edwards Plateau.  This includes attending varies lectures and symposium on Native Texas Plants and he also has completed the Native Plant Society of Texas – Native Landscaping Certification Program and is a Texas Master Naturalist.  Craig is currently serving as the Education Chair for the Lindheimer Chapter of the Native Plant Society of Texas. \n\n\n\nZOOM INFO: If you can’t join in person\, log on using this link:https://us02web.zoom.us/j/83725236133?pwd=MnRoZlRWMEd4ZENkaXdjalpkRFFIdz09If needed\, use:Meeting ID: 837 2523 6133Passcode: 882399a*
URL:https://www.npsot.org/event/dallas-april-mtg-collecting-native-seeds/
CATEGORIES:Chapter Meeting,Hybrid chapter meeting,Virtual
END:VEVENT
END:VCALENDAR