
BEGIN:VCALENDAR
VERSION:2.0
PRODID:-//Native Plant Society of Texas - ECPv6.15.20//NONSGML v1.0//EN
CALSCALE:GREGORIAN
METHOD:PUBLISH
X-ORIGINAL-URL:https://www.npsot.org
X-WR-CALDESC:Events for Native Plant Society of Texas
REFRESH-INTERVAL;VALUE=DURATION:PT1H
X-Robots-Tag:noindex
X-PUBLISHED-TTL:PT1H
BEGIN:VTIMEZONE
TZID:America/Chicago
BEGIN:DAYLIGHT
TZOFFSETFROM:-0600
TZOFFSETTO:-0500
TZNAME:CDT
DTSTART:20250309T080000
END:DAYLIGHT
BEGIN:STANDARD
TZOFFSETFROM:-0500
TZOFFSETTO:-0600
TZNAME:CST
DTSTART:20251102T070000
END:STANDARD
BEGIN:DAYLIGHT
TZOFFSETFROM:-0600
TZOFFSETTO:-0500
TZNAME:CDT
DTSTART:20260308T080000
END:DAYLIGHT
BEGIN:STANDARD
TZOFFSETFROM:-0500
TZOFFSETTO:-0600
TZNAME:CST
DTSTART:20261101T070000
END:STANDARD
BEGIN:DAYLIGHT
TZOFFSETFROM:-0600
TZOFFSETTO:-0500
TZNAME:CDT
DTSTART:20270314T080000
END:DAYLIGHT
BEGIN:STANDARD
TZOFFSETFROM:-0500
TZOFFSETTO:-0600
TZNAME:CST
DTSTART:20271107T070000
END:STANDARD
BEGIN:DAYLIGHT
TZOFFSETFROM:-0600
TZOFFSETTO:-0500
TZNAME:CDT
DTSTART:20280312T080000
END:DAYLIGHT
BEGIN:STANDARD
TZOFFSETFROM:-0500
TZOFFSETTO:-0600
TZNAME:CST
DTSTART:20281105T070000
END:STANDARD
END:VTIMEZONE
BEGIN:VEVENT
DTSTART;TZID=America/Chicago:20260827T180000
DTEND;TZID=America/Chicago:20260827T193000
DTSTAMP:20260423T052412
CREATED:20260108T162407Z
LAST-MODIFIED:20260309T221653Z
UID:10006186-1787853600-1787859000@www.npsot.org
SUMMARY:Executive Committee Meeting
DESCRIPTION:Native Plant Society of Texas (NPSOT) Executive Committee meetings occur monthly. \n\n\n\nAll members are welcome. Please formally submit your interest to attend as a guest or to be added to the agenda one week prior to executive-director@npsot.org. Guest will need to submit prior notice to each meeting they wish to attend\, to receive the relevant meeting info. Please be prepared to follow the Visitor’s Executive Meeting Protocol.
URL:https://www.npsot.org/event/executive-committee-meeting-20/
CATEGORIES:Committee Meeting,Virtual
END:VEVENT
BEGIN:VEVENT
DTSTART;TZID=America/Chicago:20260901T183000
DTEND;TZID=America/Chicago:20260901T210000
DTSTAMP:20260423T052412
CREATED:20260119T231606Z
LAST-MODIFIED:20260119T232949Z
UID:10006261-1788287400-1788296400@www.npsot.org
SUMMARY:Collin County September Meeting: The Role of Beneficial Insects
DESCRIPTION:John Watts of the Dallas Discovery Gardens will be presenting on “The Role of Beneficial Insects”. More information coming soon.
URL:https://www.npsot.org/event/collin-county-september-meeting-the-role-of-beneficial-insects/
CATEGORIES:Chapter Meeting,Virtual
ATTACH;FMTTYPE=image/jpeg:https://www.npsot.org/wp-content/uploads/2025/08/Green-Bee-on-Buttercup.avif
END:VEVENT
BEGIN:VEVENT
DTSTART;TZID=America/Chicago:20260910T183000
DTEND;TZID=America/Chicago:20260910T203000
DTSTAMP:20260423T052412
CREATED:20250819T182036Z
LAST-MODIFIED:20260218T202325Z
UID:10005601-1789065000-1789072200@www.npsot.org
SUMMARY:North Central Chapter Meeting
DESCRIPTION:6:30 Doors Open\, Socializing and Snacks7:00 Chapter Meeting and AnnouncementsThe presentation will follow our brief business meeting. \n\n\n\nLOCATIONFort Worth Botanic GardenRose Room3220 Botanic Garden Blvd\, Fort Worth\, Texas 76107 \n\n\n\nVIRTUAL ZOOM REGISTRATION This meeting is hybrid and will be held in person and on Zoom.  You can register in advance to receive the Zoom meeting link by clicking the GREEN BUTTON found at the top of the Calendar page on our website. After registering\, you will receive a confirmation email with instructions for joining the online meeting.  \n\n\n\nFREEThis is a free event hosted by the North Central Chapter of the Native Plant Society of Texas.  Our meetings are open to members and non-members.  For more information about the North Central Chapter\, and the benefits of membership\, please visit our website.
URL:https://www.npsot.org/event/north-central-chapter-meeting-9/
CATEGORIES:Chapter Meeting,Virtual
END:VEVENT
BEGIN:VEVENT
DTSTART;TZID=America/Chicago:20260915T180000
DTEND;TZID=America/Chicago:20260915T190000
DTSTAMP:20260423T052412
CREATED:20250804T201610Z
LAST-MODIFIED:20251107T192055Z
UID:10005470-1789495200-1789498800@www.npsot.org
SUMMARY:Lindheimer Chapter Monthly Meeting
DESCRIPTION:Location: Tye Preston Memorial Library\, 16311 S. Access Road\, Canyon Lake\, Texas 78133.  All presentations are available via Zoom and are recorded for our Youtube channel.
URL:https://www.npsot.org/event/lindheimer-chapter-monthly-meeting-4/2026-09-15/
CATEGORIES:Chapter Meeting,Virtual
ATTACH;FMTTYPE=image/png:https://www.npsot.org/wp-content/uploads/2024/09/Purple-and-white-Modern-Round-Stamp-Logo-single-flower-png.avif
END:VEVENT
BEGIN:VEVENT
DTSTART;TZID=America/Chicago:20260917T120000
DTEND;TZID=America/Chicago:20260917T130000
DTSTAMP:20260423T052412
CREATED:20260412T222153Z
LAST-MODIFIED:20260412T222154Z
UID:10006989-1789646400-1789650000@www.npsot.org
SUMMARY:Chapter Leader Forum
DESCRIPTION:Registration Link: https://npsot-org.zoom.us/j/83337785076?pwd=ELJTLJ2bOqe4LkF1x7IEec5E37ze3D.1 \n\n\n\nRegister in advance for this meeting. After registering\, you will receive a confirmation email containing information about joining the meeting.
URL:https://www.npsot.org/event/chapter-leader-forum-19/
CATEGORIES:Chapter Leader Forum,Virtual
END:VEVENT
BEGIN:VEVENT
DTSTART;TZID=America/Chicago:20260922T183000
DTEND;TZID=America/Chicago:20260922T203000
DTSTAMP:20260423T052412
CREATED:20251118T023518Z
LAST-MODIFIED:20260303T041517Z
UID:10006477-1790101800-1790109000@www.npsot.org
SUMMARY:Austin Chapter Meeting
DESCRIPTION:Join us for our monthly Chapter Meeting\, 4th Tuesday of each month 7PM (with social time at 6:30PM). \n\n\n\nLocation: Lakewood Clubhouse at 7317 Lakewood Dr\, Austin\, TX 78750.The meeting will have a Zoom hybrid option as well. You can also register for the Zoom meeting closer to the date.
URL:https://www.npsot.org/event/just-enough-latin-to-go-plant-shopping-with-carol-clark-austin-chapter-meeting/2026-09-22/
LOCATION:Lakewood Clubhouse\, 7317 Lakewood Dr.\, Austin\, Texas\, 78750\, United States
CATEGORIES:Chapter Meeting,Virtual
ATTACH;FMTTYPE=image/png:https://www.npsot.org/wp-content/uploads/2022/09/Large-Blue-1.png
END:VEVENT
BEGIN:VEVENT
DTSTART;TZID=America/Chicago:20260924T180000
DTEND;TZID=America/Chicago:20260924T193000
DTSTAMP:20260423T052412
CREATED:20260108T163435Z
LAST-MODIFIED:20260309T221844Z
UID:10006187-1790272800-1790278200@www.npsot.org
SUMMARY:Executive Committee Meeting
DESCRIPTION:Native Plant Society of Texas (NPSOT) Executive Committee meetings occur monthly. \n\n\n\nAll members are welcome. Please formally submit your interest to attend as a guest or to be added to the agenda one week prior to executive-director@npsot.org. Guest will need to submit prior notice to each meeting they wish to attend\, to receive the relevant meeting info. Please be prepared to follow the Visitor’s Executive Meeting Protocol.
URL:https://www.npsot.org/event/executive-committee-meeting-17/
CATEGORIES:Committee Meeting,Virtual
END:VEVENT
BEGIN:VEVENT
DTSTART;TZID=America/Chicago:20261006T183000
DTEND;TZID=America/Chicago:20261006T210000
DTSTAMP:20260423T052412
CREATED:20260119T231914Z
LAST-MODIFIED:20260119T232955Z
UID:10006262-1791311400-1791320400@www.npsot.org
SUMMARY:Collin County October Meeting: Bringing Back Burns: The Reintroduction of Prescribed Fire After 18 Years
DESCRIPTION:Braden Duffee of the Heard Museum and Nature Preserve in McKinney will be speaking on “Bringing Back Burns: The Reintroduction of Prescribed Fire After 18 Years”. More information coming soon.
URL:https://www.npsot.org/event/collin-county-october-meeting-bringing-back-burns-the-reintroduction-of-prescribed-fire-after-18-years/
CATEGORIES:Chapter Meeting,Virtual
ATTACH;FMTTYPE=image/jpeg:https://www.npsot.org/wp-content/uploads/2025/09/Picture1.avif
END:VEVENT
BEGIN:VEVENT
DTSTART;TZID=America/Chicago:20261015T120000
DTEND;TZID=America/Chicago:20261015T130000
DTSTAMP:20260423T052412
CREATED:20260412T222224Z
LAST-MODIFIED:20260412T222225Z
UID:10006990-1792065600-1792069200@www.npsot.org
SUMMARY:Chapter Leader Forum
DESCRIPTION:Registration Link: https://npsot-org.zoom.us/j/83337785076?pwd=ELJTLJ2bOqe4LkF1x7IEec5E37ze3D.1 \n\n\n\nRegister in advance for this meeting. After registering\, you will receive a confirmation email containing information about joining the meeting.
URL:https://www.npsot.org/event/chapter-leader-forum-20/
CATEGORIES:Chapter Leader Forum,Virtual
END:VEVENT
BEGIN:VEVENT
DTSTART;TZID=America/Chicago:20261020T180000
DTEND;TZID=America/Chicago:20261020T190000
DTSTAMP:20260423T052412
CREATED:20250804T201610Z
LAST-MODIFIED:20251107T192055Z
UID:10005471-1792519200-1792522800@www.npsot.org
SUMMARY:Lindheimer Chapter Monthly Meeting
DESCRIPTION:Location: Tye Preston Memorial Library\, 16311 S. Access Road\, Canyon Lake\, Texas 78133.  All presentations are available via Zoom and are recorded for our Youtube channel.
URL:https://www.npsot.org/event/lindheimer-chapter-monthly-meeting-4/2026-10-20/
CATEGORIES:Chapter Meeting,Virtual
ATTACH;FMTTYPE=image/png:https://www.npsot.org/wp-content/uploads/2024/09/Purple-and-white-Modern-Round-Stamp-Logo-single-flower-png.avif
END:VEVENT
BEGIN:VEVENT
DTSTART;TZID=America/Chicago:20261022T180000
DTEND;TZID=America/Chicago:20261022T193000
DTSTAMP:20260423T052412
CREATED:20260108T163622Z
LAST-MODIFIED:20260309T221936Z
UID:10006188-1792692000-1792697400@www.npsot.org
SUMMARY:Executive Committee Meeting
DESCRIPTION:Native Plant Society of Texas Executive Committee meetings occur monthly. \n\n\n\nAll members are welcome. Please formally submit your interest to attend as a guest or to be added to the agenda one week prior to executive-director@npsot.org. Guest will need to submit prior notice to each meeting they wish to attend\, to receive the relevant meeting info. Please be prepared to follow the Visitor’s Executive Meeting Protocol.
URL:https://www.npsot.org/event/executive-committee-meeting-21/
CATEGORIES:Committee Meeting,Virtual
END:VEVENT
BEGIN:VEVENT
DTSTART;TZID=America/Chicago:20261027T183000
DTEND;TZID=America/Chicago:20261027T203000
DTSTAMP:20260423T052412
CREATED:20251118T023518Z
LAST-MODIFIED:20260303T041517Z
UID:10006478-1793125800-1793133000@www.npsot.org
SUMMARY:Austin Chapter Meeting
DESCRIPTION:Join us for our monthly Chapter Meeting\, 4th Tuesday of each month 7PM (with social time at 6:30PM). \n\n\n\nLocation: Lakewood Clubhouse at 7317 Lakewood Dr\, Austin\, TX 78750.The meeting will have a Zoom hybrid option as well. You can also register for the Zoom meeting closer to the date.
URL:https://www.npsot.org/event/just-enough-latin-to-go-plant-shopping-with-carol-clark-austin-chapter-meeting/2026-10-27/
LOCATION:Lakewood Clubhouse\, 7317 Lakewood Dr.\, Austin\, Texas\, 78750\, United States
CATEGORIES:Chapter Meeting,Virtual
ATTACH;FMTTYPE=image/png:https://www.npsot.org/wp-content/uploads/2022/09/Large-Blue-1.png
END:VEVENT
BEGIN:VEVENT
DTSTART;TZID=America/Chicago:20261103T183000
DTEND;TZID=America/Chicago:20261103T210000
DTSTAMP:20260423T052412
CREATED:20260119T232146Z
LAST-MODIFIED:20260119T233002Z
UID:10006263-1793730600-1793739600@www.npsot.org
SUMMARY:Collin County November Meeting: Native Texas Plant Show and Tell
DESCRIPTION:Our annual Native Texas Plant Show and Tell program. More information coming soon.
URL:https://www.npsot.org/event/collin-county-november-meeting-native-texas-plant-show-and-tell/
CATEGORIES:Chapter Meeting,Virtual
ATTACH;FMTTYPE=image/jpeg:https://www.npsot.org/wp-content/uploads/2025/01/IMG_20240328_081828843_HDR.avif
END:VEVENT
BEGIN:VEVENT
DTSTART;TZID=America/Chicago:20261107T090000
DTEND;TZID=America/Chicago:20261107T110000
DTSTAMP:20260423T052412
CREATED:20251211T191303Z
LAST-MODIFIED:20251211T191304Z
UID:10005978-1794042000-1794049200@www.npsot.org
SUMMARY:Q4 State Board Meeting
DESCRIPTION:Native Plant Society of Texas State Board MeetingZoom – Virtual Meeting \n\n\n\n9 am – 11:00 am (join Zoom meeting as early as 08:30 pm) \n\n\n\nThis event is free and all Society members are welcome! Voting members include chapter presidents (or their representatives)\, state-level executive officers and state standing committee chairs. \n\n\n\nRegister to attend the meeting: Registration link coming soon!
URL:https://www.npsot.org/event/q4-state-board-meeting-2/
CATEGORIES:Board Meeting,Virtual
END:VEVENT
BEGIN:VEVENT
DTSTART;TZID=America/Chicago:20261112T183000
DTEND;TZID=America/Chicago:20261112T203000
DTSTAMP:20260423T052412
CREATED:20250819T182337Z
LAST-MODIFIED:20260415T232633Z
UID:10005603-1794508200-1794515400@www.npsot.org
SUMMARY:James Theiss\, Eco-Typic Landscape Design: a New Revolution in Modern Landscape Planting\, North Central Chapter Meeting
DESCRIPTION:This presentation will focus on eco-typic planting alternatives for modern landscapes and explore how we can use nature as both inspiration and instruction for planting design. James Theiss has a degree in Forest Ecology and a master’s degree in Landscape Architecture. He is an award-winning landscape designer who has been designing sustainable landscapes since 2001. James is a Certified Master Plantsman\, a Certified Arborist\, and a practicing native plant design expert. \n\n\n\n\n\n\n\n6:30 Doors Open\, Socializing and Snacks.7:00 Chapter Meeting and Announcements.The presentation will follow our brief business meeting.LOCATIONFort Worth Botanic GardenRose Room3220 Botanic Garden Blvd\, Fort Worth\, Texas 76107VIRTUAL ZOOM REGISTRATION This meeting is hybrid and will be held in person and on Zoom.  You can register in advance to receive the Zoom meeting link by clicking the GREEN BUTTON found at the top of the Calendar page on our website. After registering\, you will receive a confirmation email with instructions for joining the online meeting. FREEThis is a free event hosted by the North Central Chapter of the Native Plant Society of Texas.  Our meetings are open to members and non-members.  For more information about the North Central Chapter\, and the benefits of membership\, please visit our website.
URL:https://www.npsot.org/event/north-central-chapter-meeting-10/
CATEGORIES:Chapter Meeting,Hybrid chapter meeting,Virtual
ATTACH;FMTTYPE=image/png:https://www.npsot.org/wp-content/uploads/2025/08/landscape-plan.avif
END:VEVENT
BEGIN:VEVENT
DTSTART;TZID=America/Chicago:20261117T180000
DTEND;TZID=America/Chicago:20261117T190000
DTSTAMP:20260423T052412
CREATED:20250804T201610Z
LAST-MODIFIED:20251107T192055Z
UID:10005472-1794938400-1794942000@www.npsot.org
SUMMARY:Lindheimer Chapter Monthly Meeting
DESCRIPTION:Location: Tye Preston Memorial Library\, 16311 S. Access Road\, Canyon Lake\, Texas 78133.  All presentations are available via Zoom and are recorded for our Youtube channel.
URL:https://www.npsot.org/event/lindheimer-chapter-monthly-meeting-4/2026-11-17/
CATEGORIES:Chapter Meeting,Virtual
ATTACH;FMTTYPE=image/png:https://www.npsot.org/wp-content/uploads/2024/09/Purple-and-white-Modern-Round-Stamp-Logo-single-flower-png.avif
END:VEVENT
BEGIN:VEVENT
DTSTART;TZID=America/Chicago:20261119T120000
DTEND;TZID=America/Chicago:20261119T130000
DTSTAMP:20260423T052412
CREATED:20260412T222251Z
LAST-MODIFIED:20260412T222253Z
UID:10006991-1795089600-1795093200@www.npsot.org
SUMMARY:Chapter Leader Forum
DESCRIPTION:Registration Link: https://npsot-org.zoom.us/j/83337785076?pwd=ELJTLJ2bOqe4LkF1x7IEec5E37ze3D.1 \n\n\n\nRegister in advance for this meeting. After registering\, you will receive a confirmation email containing information about joining the meeting.
URL:https://www.npsot.org/event/chapter-leader-forum-21/
CATEGORIES:Chapter Leader Forum,Virtual
END:VEVENT
BEGIN:VEVENT
DTSTART;TZID=America/Chicago:20261124T183000
DTEND;TZID=America/Chicago:20261124T203000
DTSTAMP:20260423T052412
CREATED:20251118T023518Z
LAST-MODIFIED:20260303T041517Z
UID:10006479-1795545000-1795552200@www.npsot.org
SUMMARY:Austin Chapter Meeting
DESCRIPTION:Join us for our monthly Chapter Meeting\, 4th Tuesday of each month 7PM (with social time at 6:30PM). \n\n\n\nLocation: Lakewood Clubhouse at 7317 Lakewood Dr\, Austin\, TX 78750.The meeting will have a Zoom hybrid option as well. You can also register for the Zoom meeting closer to the date.
URL:https://www.npsot.org/event/just-enough-latin-to-go-plant-shopping-with-carol-clark-austin-chapter-meeting/2026-11-24/
LOCATION:Lakewood Clubhouse\, 7317 Lakewood Dr.\, Austin\, Texas\, 78750\, United States
CATEGORIES:Chapter Meeting,Virtual
ATTACH;FMTTYPE=image/png:https://www.npsot.org/wp-content/uploads/2022/09/Large-Blue-1.png
END:VEVENT
BEGIN:VEVENT
DTSTART;TZID=America/Chicago:20261215T180000
DTEND;TZID=America/Chicago:20261215T190000
DTSTAMP:20260423T052412
CREATED:20250804T201610Z
LAST-MODIFIED:20251107T192055Z
UID:10005473-1797357600-1797361200@www.npsot.org
SUMMARY:Lindheimer Chapter Monthly Meeting
DESCRIPTION:Location: Tye Preston Memorial Library\, 16311 S. Access Road\, Canyon Lake\, Texas 78133.  All presentations are available via Zoom and are recorded for our Youtube channel.
URL:https://www.npsot.org/event/lindheimer-chapter-monthly-meeting-4/2026-12-15/
CATEGORIES:Chapter Meeting,Virtual
ATTACH;FMTTYPE=image/png:https://www.npsot.org/wp-content/uploads/2024/09/Purple-and-white-Modern-Round-Stamp-Logo-single-flower-png.avif
END:VEVENT
BEGIN:VEVENT
DTSTART;TZID=America/Chicago:20261217T120000
DTEND;TZID=America/Chicago:20261217T130000
DTSTAMP:20260423T052412
CREATED:20260412T222322Z
LAST-MODIFIED:20260412T222323Z
UID:10006992-1797508800-1797512400@www.npsot.org
SUMMARY:Chapter Leader Forum
DESCRIPTION:Registration Link: https://npsot-org.zoom.us/j/83337785076?pwd=ELJTLJ2bOqe4LkF1x7IEec5E37ze3D.1 \n\n\n\nRegister in advance for this meeting. After registering\, you will receive a confirmation email containing information about joining the meeting.
URL:https://www.npsot.org/event/chapter-leader-forum-22/
CATEGORIES:Chapter Leader Forum,Virtual
END:VEVENT
BEGIN:VEVENT
DTSTART;TZID=America/Chicago:20261222T183000
DTEND;TZID=America/Chicago:20261222T203000
DTSTAMP:20260423T052412
CREATED:20251118T023518Z
LAST-MODIFIED:20260303T041517Z
UID:10006480-1797964200-1797971400@www.npsot.org
SUMMARY:Austin Chapter Meeting
DESCRIPTION:Join us for our monthly Chapter Meeting\, 4th Tuesday of each month 7PM (with social time at 6:30PM). \n\n\n\nLocation: Lakewood Clubhouse at 7317 Lakewood Dr\, Austin\, TX 78750.The meeting will have a Zoom hybrid option as well. You can also register for the Zoom meeting closer to the date.
URL:https://www.npsot.org/event/just-enough-latin-to-go-plant-shopping-with-carol-clark-austin-chapter-meeting/2026-12-22/
LOCATION:Lakewood Clubhouse\, 7317 Lakewood Dr.\, Austin\, Texas\, 78750\, United States
CATEGORIES:Chapter Meeting,Virtual
ATTACH;FMTTYPE=image/png:https://www.npsot.org/wp-content/uploads/2022/09/Large-Blue-1.png
END:VEVENT
BEGIN:VEVENT
DTSTART;TZID=America/Chicago:20270119T180000
DTEND;TZID=America/Chicago:20270119T190000
DTSTAMP:20260423T052412
CREATED:20250804T201610Z
LAST-MODIFIED:20251107T192055Z
UID:10005474-1800381600-1800385200@www.npsot.org
SUMMARY:Lindheimer Chapter Monthly Meeting
DESCRIPTION:Location: Tye Preston Memorial Library\, 16311 S. Access Road\, Canyon Lake\, Texas 78133.  All presentations are available via Zoom and are recorded for our Youtube channel.
URL:https://www.npsot.org/event/lindheimer-chapter-monthly-meeting-4/2027-01-19/
CATEGORIES:Chapter Meeting,Virtual
ATTACH;FMTTYPE=image/png:https://www.npsot.org/wp-content/uploads/2024/09/Purple-and-white-Modern-Round-Stamp-Logo-single-flower-png.avif
END:VEVENT
BEGIN:VEVENT
DTSTART;TZID=America/Chicago:20270126T183000
DTEND;TZID=America/Chicago:20270126T203000
DTSTAMP:20260423T052412
CREATED:20251118T023518Z
LAST-MODIFIED:20260303T041517Z
UID:10006481-1800988200-1800995400@www.npsot.org
SUMMARY:Austin Chapter Meeting
DESCRIPTION:Join us for our monthly Chapter Meeting\, 4th Tuesday of each month 7PM (with social time at 6:30PM). \n\n\n\nLocation: Lakewood Clubhouse at 7317 Lakewood Dr\, Austin\, TX 78750.The meeting will have a Zoom hybrid option as well. You can also register for the Zoom meeting closer to the date.
URL:https://www.npsot.org/event/just-enough-latin-to-go-plant-shopping-with-carol-clark-austin-chapter-meeting/2027-01-26/
LOCATION:Lakewood Clubhouse\, 7317 Lakewood Dr.\, Austin\, Texas\, 78750\, United States
CATEGORIES:Chapter Meeting,Virtual
ATTACH;FMTTYPE=image/png:https://www.npsot.org/wp-content/uploads/2022/09/Large-Blue-1.png
END:VEVENT
BEGIN:VEVENT
DTSTART;TZID=America/Chicago:20270216T180000
DTEND;TZID=America/Chicago:20270216T190000
DTSTAMP:20260423T052412
CREATED:20250804T201610Z
LAST-MODIFIED:20251107T192055Z
UID:10005475-1802800800-1802804400@www.npsot.org
SUMMARY:Lindheimer Chapter Monthly Meeting
DESCRIPTION:Location: Tye Preston Memorial Library\, 16311 S. Access Road\, Canyon Lake\, Texas 78133.  All presentations are available via Zoom and are recorded for our Youtube channel.
URL:https://www.npsot.org/event/lindheimer-chapter-monthly-meeting-4/2027-02-16/
CATEGORIES:Chapter Meeting,Virtual
ATTACH;FMTTYPE=image/png:https://www.npsot.org/wp-content/uploads/2024/09/Purple-and-white-Modern-Round-Stamp-Logo-single-flower-png.avif
END:VEVENT
BEGIN:VEVENT
DTSTART;TZID=America/Chicago:20270223T183000
DTEND;TZID=America/Chicago:20270223T203000
DTSTAMP:20260423T052412
CREATED:20251118T023518Z
LAST-MODIFIED:20260303T041517Z
UID:10006482-1803407400-1803414600@www.npsot.org
SUMMARY:Austin Chapter Meeting
DESCRIPTION:Join us for our monthly Chapter Meeting\, 4th Tuesday of each month 7PM (with social time at 6:30PM). \n\n\n\nLocation: Lakewood Clubhouse at 7317 Lakewood Dr\, Austin\, TX 78750.The meeting will have a Zoom hybrid option as well. You can also register for the Zoom meeting closer to the date.
URL:https://www.npsot.org/event/just-enough-latin-to-go-plant-shopping-with-carol-clark-austin-chapter-meeting/2027-02-23/
LOCATION:Lakewood Clubhouse\, 7317 Lakewood Dr.\, Austin\, Texas\, 78750\, United States
CATEGORIES:Chapter Meeting,Virtual
ATTACH;FMTTYPE=image/png:https://www.npsot.org/wp-content/uploads/2022/09/Large-Blue-1.png
END:VEVENT
BEGIN:VEVENT
DTSTART;TZID=America/Chicago:20270316T180000
DTEND;TZID=America/Chicago:20270316T190000
DTSTAMP:20260423T052412
CREATED:20250804T201610Z
LAST-MODIFIED:20251107T192055Z
UID:10005476-1805220000-1805223600@www.npsot.org
SUMMARY:Lindheimer Chapter Monthly Meeting
DESCRIPTION:Location: Tye Preston Memorial Library\, 16311 S. Access Road\, Canyon Lake\, Texas 78133.  All presentations are available via Zoom and are recorded for our Youtube channel.
URL:https://www.npsot.org/event/lindheimer-chapter-monthly-meeting-4/2027-03-16/
CATEGORIES:Chapter Meeting,Virtual
ATTACH;FMTTYPE=image/png:https://www.npsot.org/wp-content/uploads/2024/09/Purple-and-white-Modern-Round-Stamp-Logo-single-flower-png.avif
END:VEVENT
BEGIN:VEVENT
DTSTART;TZID=America/Chicago:20270323T183000
DTEND;TZID=America/Chicago:20270323T203000
DTSTAMP:20260423T052412
CREATED:20251118T023518Z
LAST-MODIFIED:20260303T041517Z
UID:10006483-1805826600-1805833800@www.npsot.org
SUMMARY:Austin Chapter Meeting
DESCRIPTION:Join us for our monthly Chapter Meeting\, 4th Tuesday of each month 7PM (with social time at 6:30PM). \n\n\n\nLocation: Lakewood Clubhouse at 7317 Lakewood Dr\, Austin\, TX 78750.The meeting will have a Zoom hybrid option as well. You can also register for the Zoom meeting closer to the date.
URL:https://www.npsot.org/event/just-enough-latin-to-go-plant-shopping-with-carol-clark-austin-chapter-meeting/2027-03-23/
LOCATION:Lakewood Clubhouse\, 7317 Lakewood Dr.\, Austin\, Texas\, 78750\, United States
CATEGORIES:Chapter Meeting,Virtual
ATTACH;FMTTYPE=image/png:https://www.npsot.org/wp-content/uploads/2022/09/Large-Blue-1.png
END:VEVENT
BEGIN:VEVENT
DTSTART;TZID=America/Chicago:20270420T180000
DTEND;TZID=America/Chicago:20270420T190000
DTSTAMP:20260423T052412
CREATED:20250804T201610Z
LAST-MODIFIED:20251107T192055Z
UID:10005477-1808244000-1808247600@www.npsot.org
SUMMARY:Lindheimer Chapter Monthly Meeting
DESCRIPTION:Location: Tye Preston Memorial Library\, 16311 S. Access Road\, Canyon Lake\, Texas 78133.  All presentations are available via Zoom and are recorded for our Youtube channel.
URL:https://www.npsot.org/event/lindheimer-chapter-monthly-meeting-4/2027-04-20/
CATEGORIES:Chapter Meeting,Virtual
ATTACH;FMTTYPE=image/png:https://www.npsot.org/wp-content/uploads/2024/09/Purple-and-white-Modern-Round-Stamp-Logo-single-flower-png.avif
END:VEVENT
BEGIN:VEVENT
DTSTART;TZID=America/Chicago:20270427T183000
DTEND;TZID=America/Chicago:20270427T203000
DTSTAMP:20260423T052412
CREATED:20251118T023518Z
LAST-MODIFIED:20260303T041517Z
UID:10006484-1808850600-1808857800@www.npsot.org
SUMMARY:Austin Chapter Meeting
DESCRIPTION:Join us for our monthly Chapter Meeting\, 4th Tuesday of each month 7PM (with social time at 6:30PM). \n\n\n\nLocation: Lakewood Clubhouse at 7317 Lakewood Dr\, Austin\, TX 78750.The meeting will have a Zoom hybrid option as well. You can also register for the Zoom meeting closer to the date.
URL:https://www.npsot.org/event/just-enough-latin-to-go-plant-shopping-with-carol-clark-austin-chapter-meeting/2027-04-27/
LOCATION:Lakewood Clubhouse\, 7317 Lakewood Dr.\, Austin\, Texas\, 78750\, United States
CATEGORIES:Chapter Meeting,Virtual
ATTACH;FMTTYPE=image/png:https://www.npsot.org/wp-content/uploads/2022/09/Large-Blue-1.png
END:VEVENT
BEGIN:VEVENT
DTSTART;TZID=America/Chicago:20270518T180000
DTEND;TZID=America/Chicago:20270518T190000
DTSTAMP:20260423T052413
CREATED:20250804T201610Z
LAST-MODIFIED:20251107T192055Z
UID:10005478-1810663200-1810666800@www.npsot.org
SUMMARY:Lindheimer Chapter Monthly Meeting
DESCRIPTION:Location: Tye Preston Memorial Library\, 16311 S. Access Road\, Canyon Lake\, Texas 78133.  All presentations are available via Zoom and are recorded for our Youtube channel.
URL:https://www.npsot.org/event/lindheimer-chapter-monthly-meeting-4/2027-05-18/
CATEGORIES:Chapter Meeting,Virtual
ATTACH;FMTTYPE=image/png:https://www.npsot.org/wp-content/uploads/2024/09/Purple-and-white-Modern-Round-Stamp-Logo-single-flower-png.avif
END:VEVENT
END:VCALENDAR