
BEGIN:VCALENDAR
VERSION:2.0
PRODID:-//Native Plant Society of Texas - ECPv6.15.20//NONSGML v1.0//EN
CALSCALE:GREGORIAN
METHOD:PUBLISH
X-ORIGINAL-URL:https://www.npsot.org
X-WR-CALDESC:Events for Native Plant Society of Texas
REFRESH-INTERVAL;VALUE=DURATION:PT1H
X-Robots-Tag:noindex
X-PUBLISHED-TTL:PT1H
BEGIN:VTIMEZONE
TZID:America/Chicago
BEGIN:DAYLIGHT
TZOFFSETFROM:-0600
TZOFFSETTO:-0500
TZNAME:CDT
DTSTART:20250309T080000
END:DAYLIGHT
BEGIN:STANDARD
TZOFFSETFROM:-0500
TZOFFSETTO:-0600
TZNAME:CST
DTSTART:20251102T070000
END:STANDARD
BEGIN:DAYLIGHT
TZOFFSETFROM:-0600
TZOFFSETTO:-0500
TZNAME:CDT
DTSTART:20260308T080000
END:DAYLIGHT
BEGIN:STANDARD
TZOFFSETFROM:-0500
TZOFFSETTO:-0600
TZNAME:CST
DTSTART:20261101T070000
END:STANDARD
BEGIN:DAYLIGHT
TZOFFSETFROM:-0600
TZOFFSETTO:-0500
TZNAME:CDT
DTSTART:20270314T080000
END:DAYLIGHT
BEGIN:STANDARD
TZOFFSETFROM:-0500
TZOFFSETTO:-0600
TZNAME:CST
DTSTART:20271107T070000
END:STANDARD
END:VTIMEZONE
BEGIN:VEVENT
DTSTART;TZID=America/Chicago:20260407T183000
DTEND;TZID=America/Chicago:20260407T210000
DTSTAMP:20260425T111009
CREATED:20260119T221624Z
LAST-MODIFIED:20260407T170855Z
UID:10006256-1775586600-1775595600@www.npsot.org
SUMMARY:Collin County April Meeting - From Forgotten Ground to Living Memory
DESCRIPTION:Our Tuesday April 7th chapter meeting will be available to attend in person at the Heard Museum in McKinney or online via Zoom. The program will feature Julie Fineman of the Constellation of Living Memorials (CLM) presenting on “From Forgotten Ground to Living Memory: Reimagining Forgotten Cemeteries to Reconnect People with Natural and Cultural History”. \n\n\n\n\n\n\n\nPresentation Summary\n\n\n\nAcross cities\, historic cemeteries sit quietly overlooked. What if these spaces could be restored as native landscapes that reconnect communities to local ecology\, cultural heritage\, and collective memory? Reimagining cemeteries as living memorials transforms them from neglected land into vital civic spaces rooted in history and nature. \n\n\n\nNote: Below is information on becoming a CLM Partner and the CLM Grant Agreement and Plan. \n\n\n\nAttendance Options\n\n\n\nOur meetings are free and open to the public. This is a hybrid meeting held at the Heard Museum in McKinney and virtually via Zoom. \n\n\n\n\nLocation (in-person): Laughlin Hall at the Heard Museum. Please enter through the south doors of the building.\n\n\n\nZoom Link: https://tinyurl.com/yn85nbzd – Passcode: 571904; Meeting ID: 885 5459 6572\n\n\n\nDoors and Zoom Open: 6:30 PM (for setup and connection testing)\n\n\n\nMeeting Begins: 7:00 PM\, with a brief update from Chapter President Rodney Thomas\, followed by the featured presentation.\n\n\n\n\nWe look forward to seeing you at our program! \n\n\n\nAbout our Speaker\n\n\n\n\n\n\n\nWith over 33 years of work experience\, Julie is a versatile and creative professional who combines her passion for photography\, healthy living\, and wildlife conservation. She is driven by a vision of creating a harmonious and respectful relationship between humans and nature and bringing awareness and education to the community about the value and beauty of native wildlife habits. Reimagining cemetery landscapes as wildlife habitats celebrates the cycle of life is now being realized through the Constellation of Living Memorials. She is also the President at Friends of the Warren Ferris Cemetery\, where she leads the restoration of the Blackland Prairie ecosystem\, one of the most endangered habitats in the world. Julie is a Master Gardener and a Texas Master Naturalist who has studied the native flora and fauna of Texas and their importance for biodiversity and sustainability.  \n\n\n\n \n\n\n\nBecomeConstellationPartner (1)Download\n\n\n\nCLM Grant Agreement & Plan ver. 4Download
URL:https://www.npsot.org/event/collin-county-april-meeting-constellation-of-living-memorials/
CATEGORIES:Chapter Meeting,Virtual
ATTACH;FMTTYPE=image/png:https://www.npsot.org/wp-content/uploads/2026/01/Temp-Image.avif
END:VEVENT
BEGIN:VEVENT
DTSTART;TZID=America/Chicago:20260409T183000
DTEND;TZID=America/Chicago:20260409T203000
DTSTAMP:20260425T111009
CREATED:20250817T225804Z
LAST-MODIFIED:20260304T200550Z
UID:10005592-1775759400-1775766600@www.npsot.org
SUMMARY:Jane Duke\, Trinity Forks NPSOT\, Managing Soil as an Ecosystem\, North Central Chapter Meeting
DESCRIPTION:Soil is not dirt—it is one of the most complex living ecosystems on Earth. A teaspoon of healthy soil contains billions of organisms working together in an intricate underground ecosystem. These tiny communities drive nutrient cycling\, water retention\, and plant health. When its biological community thrives\, landscapes become more fertile\, resilient\, and self-sustaining. This talk reveals the hidden living world beneath our feet and shows how you can rebuild the soil food web to restore ecological function with an investment of time and not money.Jane Duke is a restoration ecologist\, educator\, and passionate advocate for biology-driven land renewal. She has served on the local boards of the Texas Master Naturalists and the Native Plant Society of Texas\, completed the Soil Food Web Foundation Courses\, and was certified in 2023 as a Soil Food Web Lab Technician. At the Clear Creek Natural Heritage Center\, Jane leads hands-on restoration efforts which brings a grounded\, practitioner’s perspective on how Soil Food Web principles look when applied under real Texas conditions. \n\n\n\n\n\n6:30 Doors Open\, Socializing and Snacks7:00 Chapter Meeting and AnnouncementsThe presentation will follow our brief business meeting. \n\n\n\nLOCATIONFort Worth Botanic GardenRose Room3220 Botanic Garden Blvd\, Fort Worth\, Texas 76107 \n\n\n\nVIRTUAL ZOOM REGISTRATION This meeting is hybrid and will be held in person and on Zoom.  You can register in advance to receive the Zoom meeting link by clicking the GREEN BUTTON found at the top of the Calendar page on our website. After registering\, you will receive a confirmation email with instructions for joining the online meeting.  \n\n\n\nFREEThis is a free event hosted by the North Central Chapter of the Native Plant Society of Texas.  Our meetings are open to members and non-members.  For more information about the North Central Chapter\, and the benefits of membership\, please visit our website.
URL:https://www.npsot.org/event/jane-duke-trinity-forks-managing-soil-as-an-ecosystem-north-central-chapter-meeting/
CATEGORIES:Chapter Meeting,Hybrid chapter meeting,Virtual
ATTACH;FMTTYPE=image/png:https://www.npsot.org/wp-content/uploads/2025/08/2000-scaled.avif
END:VEVENT
BEGIN:VEVENT
DTSTART;TZID=America/Chicago:20260409T190000
DTEND;TZID=America/Chicago:20260409T203000
DTSTAMP:20260425T111009
CREATED:20260318T215758Z
LAST-MODIFIED:20260331T204755Z
UID:10006690-1775761200-1775766600@www.npsot.org
SUMMARY:Agaves\, Yuccas\, and Related Plants of Texas – Tough Plants for Tough Times – Williamson County Chapter Meeting\, April 9
DESCRIPTION:[3/31 added handout link] \n\n\n\nJoin NPSOT-Williamson County on Thursday\, April 9\, 2026\, when our featured topic will be Agaves\, Yuccas\, and Related Plants of Texas – Tough Plants for Tough Times with Lonnie Childs. Free and open to the public. The meeting begins at 7:00 PM.  The guest presentation begins after a short business meeting. \n\n\n\nPlease note => The video for this month’s guest presentation will be available on YouTube for 30 days. We’ll publish a blog post on the NPSOT-Williamson County website the day the video is posted. \n\n\n\nAbout our topic: This month’s presentation will provide background information on the agaves and yuccas found in Texas including their taxonomy and ethnobotanical uses and importance to indigenous cultures. We will examine some of the more common species and highlight their potential use in the home landscape. \n\n\n\nNEW=> You can download Lonnie’s meeting handout — information on 19 agaves\, yuccas and related plants for the home landscape. Click here to download from the Williamson County Chapter Dropbox. \n\n\n\nAbout our speaker: Lonnie Childs enjoyed a 30-year career as a business executive before retiring to the Fredericksburg area to pursue his interests in history\, nature\, and land conservation. In 2004\, he earned the Texas Master Naturalist designation and now serves as an instructor in that program. After serving as President of the Fredericksburg chapter of NPSOT\, Lonnie was State President of NPSOT in 2012-2013. In 2017\, the society awarded him the Benny Simpson Fellows Award for service to NPSOT. Lonnie currently serves as the Newsletter Editor and President of the Friends of the Fredericksburg Nature Center. \n\n\n\n==> This month’s in-person location is the Georgetown Public Library\, 2nd floor\, 402 West 8th St\, Georgetown\, TX 78626. Come early (6:30 PM) for expert advice\, to check out the seed swap board\, or just to visit. \n\n\n\n==> To attend via Zoom\, register at https://npsot-org.zoom.us/meeting/register/IKtidaM8Q-aWs9g7KxlYhg#/registration \n\n\n\nThe original meeting announcement is here on the Williamson County Chapter’s blog page.
URL:https://www.npsot.org/event/agaves-yuccas-and-related-plants-of-texas-tough-plants-for-tough-times-williamson-county-chapter-meeting-april-9/
CATEGORIES:Chapter Meeting,Virtual
END:VEVENT
END:VCALENDAR