
BEGIN:VCALENDAR
VERSION:2.0
PRODID:-//Native Plant Society of Texas - ECPv6.15.20//NONSGML v1.0//EN
CALSCALE:GREGORIAN
METHOD:PUBLISH
X-WR-CALNAME:Native Plant Society of Texas
X-ORIGINAL-URL:https://www.npsot.org
X-WR-CALDESC:Events for Native Plant Society of Texas
REFRESH-INTERVAL;VALUE=DURATION:PT1H
X-Robots-Tag:noindex
X-PUBLISHED-TTL:PT1H
BEGIN:VTIMEZONE
TZID:America/Chicago
BEGIN:DAYLIGHT
TZOFFSETFROM:-0600
TZOFFSETTO:-0500
TZNAME:CDT
DTSTART:20240310T080000
END:DAYLIGHT
BEGIN:STANDARD
TZOFFSETFROM:-0500
TZOFFSETTO:-0600
TZNAME:CST
DTSTART:20241103T070000
END:STANDARD
BEGIN:DAYLIGHT
TZOFFSETFROM:-0600
TZOFFSETTO:-0500
TZNAME:CDT
DTSTART:20250309T080000
END:DAYLIGHT
BEGIN:STANDARD
TZOFFSETFROM:-0500
TZOFFSETTO:-0600
TZNAME:CST
DTSTART:20251102T070000
END:STANDARD
BEGIN:DAYLIGHT
TZOFFSETFROM:-0600
TZOFFSETTO:-0500
TZNAME:CDT
DTSTART:20260308T080000
END:DAYLIGHT
BEGIN:STANDARD
TZOFFSETFROM:-0500
TZOFFSETTO:-0600
TZNAME:CST
DTSTART:20261101T070000
END:STANDARD
END:VTIMEZONE
BEGIN:VEVENT
DTSTART;TZID=America/Chicago:20250816T090000
DTEND;TZID=America/Chicago:20250816T140000
DTSTAMP:20260424T031321
CREATED:20250807T060554Z
LAST-MODIFIED:20250807T060754Z
UID:10005519-1755334800-1755352800@www.npsot.org
SUMMARY:Planning a Public Space Pollinator Garden & Grant Application Walk-through Workshop - Clear Lake
DESCRIPTION:Learn how to plan a beautiful public pollinator garden and get a walk-through of the grant application process at our in-person workshop! \n\n\n\nJoin us for a hands-on session where you’ll learn how to plan a beautiful garden that supports our local pollinators. Get information about the Clear Lake Chapter’s Native Pollinator Habitat Grant program and what the committee is looking for in an application. \n\n\n\nFree workshop. All participants will receive native milkweed\, pollinator plants\, and seeds. Educators earn CPE credits. \n\n\n\nWhat You Will Learn: \n\n\n\n\nLocal pollinators & native plants\n\n\n\nElements of a pollinator garden\n\n\n\nHow to plan a public garden\n\n\n\nTrees for pollinator gardens\n\n\n\nTips for a successful application\n\n\n\n\nSee you there! \n\n\n\nLocationEnvironmental Institute of HoustonUniversity of Houston-Clear LakeNorth Office Annex I (NOA I) Building2700 Bay Area Blvd.Houston\, TX 77058 \n\n\n\n\n\nAbout the Native Pollinator Habitat Grant Program \n\n\n\nThe Clear Lake Chapter of the Native Plant Society of Texas awards grants to nature centers\, schools\, educational groups and others to help fund development and maintenance of pollinator habitats using native plants\, shrubs or trees on public sites in Brazoria\, Galveston or Harris Counties of Texas. Priority is given to projects located in Brazoria Co.\, Galveston Co.\, and the southeast quadrant of Harris County. \n\n\n\nClick here to learn more about the grant program.
URL:https://www.npsot.org/event/planning-a-public-space-pollinator-garden-grant-application-walk-through-workshop-clear-lake/
CATEGORIES:Workshops and Classes
ATTACH;FMTTYPE=image/png:https://www.npsot.org/wp-content/uploads/2023/07/clc-featured-image-grant-walk-through.png
END:VEVENT
END:VCALENDAR