
BEGIN:VCALENDAR
VERSION:2.0
PRODID:-//Native Plant Society of Texas - ECPv6.15.20//NONSGML v1.0//EN
CALSCALE:GREGORIAN
METHOD:PUBLISH
X-ORIGINAL-URL:https://www.npsot.org
X-WR-CALDESC:Events for Native Plant Society of Texas
REFRESH-INTERVAL;VALUE=DURATION:PT1H
X-Robots-Tag:noindex
X-PUBLISHED-TTL:PT1H
BEGIN:VTIMEZONE
TZID:America/Chicago
BEGIN:DAYLIGHT
TZOFFSETFROM:-0600
TZOFFSETTO:-0500
TZNAME:CDT
DTSTART:20240310T080000
END:DAYLIGHT
BEGIN:STANDARD
TZOFFSETFROM:-0500
TZOFFSETTO:-0600
TZNAME:CST
DTSTART:20241103T070000
END:STANDARD
BEGIN:DAYLIGHT
TZOFFSETFROM:-0600
TZOFFSETTO:-0500
TZNAME:CDT
DTSTART:20250309T080000
END:DAYLIGHT
BEGIN:STANDARD
TZOFFSETFROM:-0500
TZOFFSETTO:-0600
TZNAME:CST
DTSTART:20251102T070000
END:STANDARD
BEGIN:DAYLIGHT
TZOFFSETFROM:-0600
TZOFFSETTO:-0500
TZNAME:CDT
DTSTART:20260308T080000
END:DAYLIGHT
BEGIN:STANDARD
TZOFFSETFROM:-0500
TZOFFSETTO:-0600
TZNAME:CST
DTSTART:20261101T070000
END:STANDARD
END:VTIMEZONE
BEGIN:VEVENT
DTSTART;TZID=America/Chicago:20251011T083000
DTEND;TZID=America/Chicago:20251011T160000
DTSTAMP:20260419T095217
CREATED:20250731T182305Z
LAST-MODIFIED:20250731T182538Z
UID:10005455-1760171400-1760198400@www.npsot.org
SUMMARY:NLCP Level 2: Landscape Design with Native Plants
DESCRIPTION:Location: Urban Ecology Center Gathering Hall\, Phil Hardberger Park West\, 8400 NW Military Hwy\, San Antonio\, TX 78230 \n\n\n\nDescription\n\n\n\nLearn about 45 natives and how to design your native plant landscape! NLCP is a state-wide program\, but classes focus on the characteristics and plants in the region in which they are taught. This class is specific to the San Antonio area.  \n\n\n\nThis class involves an in-person class and an online test after class completion. \n\n\n\nTo learn more details and view the class outline\, click here. \n\n\n\nREGISTER HERE AS OF AUGUST 1\, 2025 \n\n\n\nThe Native Landscape Certification Program (NLCP) is a four-level certification program that teaches the value of including and preserving native plants in landscapes. Classes focus on the characteristics and plants of the region in which they are taught. Please register for classes located in the region in which you wish to landscape. Check it out! \n\n\n\n \n\n\n\n \n\n\n\n \n\n\n\nOrganizer: npsot.sanantonio@gmail.com
URL:https://www.npsot.org/event/nlcp-level-2-landscape-design-with-native-plants/
CATEGORIES:Workshops and Classes
END:VEVENT
END:VCALENDAR