
BEGIN:VCALENDAR
VERSION:2.0
PRODID:-//Native Plant Society of Texas - ECPv6.15.20//NONSGML v1.0//EN
CALSCALE:GREGORIAN
METHOD:PUBLISH
X-WR-CALNAME:Native Plant Society of Texas
X-ORIGINAL-URL:https://www.npsot.org
X-WR-CALDESC:Events for Native Plant Society of Texas
REFRESH-INTERVAL;VALUE=DURATION:PT1H
X-Robots-Tag:noindex
X-PUBLISHED-TTL:PT1H
BEGIN:VTIMEZONE
TZID:America/Chicago
BEGIN:DAYLIGHT
TZOFFSETFROM:-0600
TZOFFSETTO:-0500
TZNAME:CDT
DTSTART:20250309T080000
END:DAYLIGHT
BEGIN:STANDARD
TZOFFSETFROM:-0500
TZOFFSETTO:-0600
TZNAME:CST
DTSTART:20251102T070000
END:STANDARD
BEGIN:DAYLIGHT
TZOFFSETFROM:-0600
TZOFFSETTO:-0500
TZNAME:CDT
DTSTART:20260308T080000
END:DAYLIGHT
BEGIN:STANDARD
TZOFFSETFROM:-0500
TZOFFSETTO:-0600
TZNAME:CST
DTSTART:20261101T070000
END:STANDARD
BEGIN:DAYLIGHT
TZOFFSETFROM:-0600
TZOFFSETTO:-0500
TZNAME:CDT
DTSTART:20270314T080000
END:DAYLIGHT
BEGIN:STANDARD
TZOFFSETFROM:-0500
TZOFFSETTO:-0600
TZNAME:CST
DTSTART:20271107T070000
END:STANDARD
END:VTIMEZONE
BEGIN:VEVENT
DTSTART;TZID=America/Chicago:20260425T080000
DTEND;TZID=America/Chicago:20260425T120000
DTSTAMP:20260423T104916
CREATED:20260316T194734Z
LAST-MODIFIED:20260316T194735Z
UID:10006685-1777104000-1777118400@www.npsot.org
SUMMARY:Landscaping With Natives 101
DESCRIPTION:At the Headwaters of the Comal 333 E. Klingmann St.
URL:https://www.npsot.org/event/landscaping-with-natives-101-2/
END:VEVENT
BEGIN:VEVENT
DTSTART;TZID=America/Chicago:20260427T174500
DTEND;TZID=America/Chicago:20260427T200000
DTSTAMP:20260423T104916
CREATED:20260403T190653Z
LAST-MODIFIED:20260403T190656Z
UID:10006797-1777311900-1777320000@www.npsot.org
SUMMARY:Chapter Meeting - For the Love of Flies!
DESCRIPTION:Praise for Forgotten Pollinators and Unsung Allies \n\n\n\nBio: Andy Blair is a plant-centric ecologist and conservation biologist with over 20 years of experience with Central Texas plant communities and considerable experience with Texas insects\, freshwater mussels\, birds\, and herptofauna.  He holds a BS in Biology from the University of Mary Hardin-Baylor and an MS in Population and Conservation Biology from Texas State University.  Andy currently works as a biologist for the Texas Department of Transportation in Austin.  He has a passion for learning about the great diversity of native plants\, insects\, and other critters that call our area home and loves to share that knowledge with others. \n\n\n\nThe meeting is at the Headwaters of the Comal 333 E. Klingmann St.
URL:https://www.npsot.org/event/chapter-meeting-for-the-love-of-flies/
END:VEVENT
BEGIN:VEVENT
DTSTART;TZID=America/Chicago:20260501T000000
DTEND;TZID=America/Chicago:20260501T235959
DTSTAMP:20260423T104916
CREATED:20260407T183135Z
LAST-MODIFIED:20260407T183137Z
UID:10006800-1777593600-1777679999@www.npsot.org
SUMMARY:Last chance to vote
DESCRIPTION:Click here: 2026 Benny Simpson Fellows BallotNote that Jean Wilson from our chapter is on the ballot.
URL:https://www.npsot.org/event/last-chance-to-vote/
END:VEVENT
BEGIN:VEVENT
DTSTART;TZID=America/Chicago:20260511T180000
DTEND;TZID=America/Chicago:20260511T200000
DTSTAMP:20260423T104916
CREATED:20260420T154437Z
LAST-MODIFIED:20260420T154929Z
UID:10007174-1778522400-1778529600@www.npsot.org
SUMMARY:May Social at Jean Wilson's House
DESCRIPTION:May social is replacing our monthly meeting.  It is held at Jean Wilson’s house \n\n\n\n928 Schumanns Bch Rd \n\n\n\nNew Braunfels\, TX 78130 \n\n\n\nPot Luck dinner.  Signup here: https://www.signupgenius.com/go/10C0C4EAFAF23A0FAC25-63514086-nbnpsot
URL:https://www.npsot.org/event/may-social-at-jean-wilsons-house/
END:VEVENT
BEGIN:VEVENT
DTSTART;TZID=America/Chicago:20260606T090000
DTEND;TZID=America/Chicago:20260606T130000
DTSTAMP:20260423T104916
CREATED:20260403T120644Z
LAST-MODIFIED:20260403T120646Z
UID:10006796-1780736400-1780750800@www.npsot.org
SUMMARY:Tour Bamberger Ranch Preserve
DESCRIPTION:Tour Bamberger Ranch Preserve near Fredericksburg \n\n\n\n$30 per person payable upon registration \n\n\n\nCash or check \n\n\n\nRegistration for members only until April 27 \, open to non-members after April 27 if trip is not full.  \n\n\n\nContact Jackie Bollinger at jbretbol@gmail.com \n\n\n\nAll fees go to Bamberger Ranch Preserve  \n\n\n\nSee bambergerranch.org.
URL:https://www.npsot.org/event/tour-bamberger-ranch-preserve/
END:VEVENT
BEGIN:VEVENT
DTSTART;TZID=America/Chicago:20261024T090000
DTEND;TZID=America/Chicago:20261024T120000
DTSTAMP:20260423T104916
CREATED:20260420T154827Z
LAST-MODIFIED:20260420T154829Z
UID:10007175-1792832400-1792843200@www.npsot.org
SUMMARY:Fall Plant Sale
DESCRIPTION:Spring Plant Sale April 11\, 2026\n\n\n\n\n333 E Klingemann St\, New Braunfels\, TX 78130
URL:https://www.npsot.org/event/fall-plant-sale/
END:VEVENT
END:VCALENDAR