
BEGIN:VCALENDAR
VERSION:2.0
PRODID:-//Native Plant Society of Texas - ECPv6.15.20//NONSGML v1.0//EN
CALSCALE:GREGORIAN
METHOD:PUBLISH
X-WR-CALNAME:Native Plant Society of Texas
X-ORIGINAL-URL:https://www.npsot.org
X-WR-CALDESC:Events for Native Plant Society of Texas
REFRESH-INTERVAL;VALUE=DURATION:PT1H
X-Robots-Tag:noindex
X-PUBLISHED-TTL:PT1H
BEGIN:VTIMEZONE
TZID:America/Chicago
BEGIN:DAYLIGHT
TZOFFSETFROM:-0600
TZOFFSETTO:-0500
TZNAME:CDT
DTSTART:20250309T080000
END:DAYLIGHT
BEGIN:STANDARD
TZOFFSETFROM:-0500
TZOFFSETTO:-0600
TZNAME:CST
DTSTART:20251102T070000
END:STANDARD
BEGIN:DAYLIGHT
TZOFFSETFROM:-0600
TZOFFSETTO:-0500
TZNAME:CDT
DTSTART:20260308T080000
END:DAYLIGHT
BEGIN:STANDARD
TZOFFSETFROM:-0500
TZOFFSETTO:-0600
TZNAME:CST
DTSTART:20261101T070000
END:STANDARD
BEGIN:DAYLIGHT
TZOFFSETFROM:-0600
TZOFFSETTO:-0500
TZNAME:CDT
DTSTART:20270314T080000
END:DAYLIGHT
BEGIN:STANDARD
TZOFFSETFROM:-0500
TZOFFSETTO:-0600
TZNAME:CST
DTSTART:20271107T070000
END:STANDARD
END:VTIMEZONE
BEGIN:VEVENT
DTSTART;TZID=America/Chicago:20260223T174500
DTEND;TZID=America/Chicago:20260223T200000
DTSTAMP:20260424T060305
CREATED:20260106T175404Z
LAST-MODIFIED:20260114T190426Z
UID:10006183-1771868700-1771876800@www.npsot.org
SUMMARY:Chapter Meeting - In the Path of Development: Planting Seeds for the Future
DESCRIPTION:Ashley Landry – “In the Path of Development: Planting Seeds for the Future” \n\n\n\nBio: Ashley Landry is the founder of the Native Plant Rescue Project (NPRP)\, which is a Central Texas-based nonprofit that coordinates plant rescues prior to construction. She was the 2024 Nancy Benedict Memorial Award winner and has been featured in Wildflower magazine\, NPAT’s Prairie People\, The Austin Chronicle\,Vibrante magazine and on Central Texas Gardener. Ashley is an avid iNaturalist user and enjoys spending her free time botanizing. \n\n\n\nThe meeting is at the Headwaters of the Comal 333 E. Klingmann St.
URL:https://www.npsot.org/event/chapter-meeting-for-the-love-of-flys/
END:VEVENT
END:VCALENDAR