
BEGIN:VCALENDAR
VERSION:2.0
PRODID:-//Native Plant Society of Texas - ECPv6.15.20//NONSGML v1.0//EN
CALSCALE:GREGORIAN
METHOD:PUBLISH
X-WR-CALNAME:Native Plant Society of Texas
X-ORIGINAL-URL:https://www.npsot.org
X-WR-CALDESC:Events for Native Plant Society of Texas
REFRESH-INTERVAL;VALUE=DURATION:PT1H
X-Robots-Tag:noindex
X-PUBLISHED-TTL:PT1H
BEGIN:VTIMEZONE
TZID:America/New_York
BEGIN:DAYLIGHT
TZOFFSETFROM:-0500
TZOFFSETTO:-0400
TZNAME:EDT
DTSTART:20240310T070000
END:DAYLIGHT
BEGIN:STANDARD
TZOFFSETFROM:-0400
TZOFFSETTO:-0500
TZNAME:EST
DTSTART:20241103T060000
END:STANDARD
BEGIN:DAYLIGHT
TZOFFSETFROM:-0500
TZOFFSETTO:-0400
TZNAME:EDT
DTSTART:20250309T070000
END:DAYLIGHT
BEGIN:STANDARD
TZOFFSETFROM:-0400
TZOFFSETTO:-0500
TZNAME:EST
DTSTART:20251102T060000
END:STANDARD
BEGIN:DAYLIGHT
TZOFFSETFROM:-0500
TZOFFSETTO:-0400
TZNAME:EDT
DTSTART:20260308T070000
END:DAYLIGHT
BEGIN:STANDARD
TZOFFSETFROM:-0400
TZOFFSETTO:-0500
TZNAME:EST
DTSTART:20261101T060000
END:STANDARD
END:VTIMEZONE
BEGIN:VTIMEZONE
TZID:America/Chicago
BEGIN:DAYLIGHT
TZOFFSETFROM:-0600
TZOFFSETTO:-0500
TZNAME:CDT
DTSTART:20240310T080000
END:DAYLIGHT
BEGIN:STANDARD
TZOFFSETFROM:-0500
TZOFFSETTO:-0600
TZNAME:CST
DTSTART:20241103T070000
END:STANDARD
BEGIN:DAYLIGHT
TZOFFSETFROM:-0600
TZOFFSETTO:-0500
TZNAME:CDT
DTSTART:20250309T080000
END:DAYLIGHT
BEGIN:STANDARD
TZOFFSETFROM:-0500
TZOFFSETTO:-0600
TZNAME:CST
DTSTART:20251102T070000
END:STANDARD
BEGIN:DAYLIGHT
TZOFFSETFROM:-0600
TZOFFSETTO:-0500
TZNAME:CDT
DTSTART:20260308T080000
END:DAYLIGHT
BEGIN:STANDARD
TZOFFSETFROM:-0500
TZOFFSETTO:-0600
TZNAME:CST
DTSTART:20261101T070000
END:STANDARD
END:VTIMEZONE
BEGIN:VEVENT
DTSTART;TZID=America/New_York:20250714T181500
DTEND;TZID=America/New_York:20250714T181500
DTSTAMP:20260420T041452
CREATED:20250610T020000Z
LAST-MODIFIED:20250531T013241Z
UID:10005207-1752516900-1752516900@www.npsot.org
SUMMARY:No Clear Lake Chapter Meeting in July
DESCRIPTION:While we’re skipping the July meeting\, we’re not skipping the fun. Take this time to recharge\, explore local greenspaces\, and maybe spot a few pollinators of your own. We’ll be back in August with our Pollinator Road Trip—a lively session that’s part travelogue\, part native plant appreciation\, and all about celebrating the efforts of our habitat grant awardees. See you then! \n\n\n\nIf you would like to become a member\, you may join online. For more information about the Native Plant Society of Texas and the benefits of membership please visit: npsot.org.
URL:https://www.npsot.org/event/no-clear-lake-chapter-meeting-in-july/
CATEGORIES:Chapter Meeting
END:VEVENT
BEGIN:VEVENT
DTSTART;TZID=America/Chicago:20250714T190000
DTEND;TZID=America/Chicago:20250714T200000
DTSTAMP:20260420T041452
CREATED:20240108T175104Z
LAST-MODIFIED:20240108T175105Z
UID:10002353-1752519600-1752523200@www.npsot.org
SUMMARY:Pines and Prairies NLCP Committee Meeting
DESCRIPTION:Dear NLCP Committee Members\,  \n\n\n\nThis Monday begins our first meeting of 2024. We will meet at 7:00pm on the 2nd and 4th Monday of the month on this Zoom link: \n\n\n\n https://npsot-org.zoom.us/j/87628189964?pwd=NUdBV3ZTSzFVMjJjTnpycjlQTGRJQT09.  \n\n\n\nWe’re a small committee\, and we don’t get to see each other in person very often\, so please plan to join with your camera on.  \n\n\n\nSee you Monday! \n\n\n\n— \n\n\n\nJay Gowen\, NLCP Chair\, Pines and Prairies Chapter\, 832-513-5785 (cell)
URL:https://www.npsot.org/event/pines-and-prairies-nlcp-committee-meeting/2025-07-14/
CATEGORIES:Committee Meeting
END:VEVENT
BEGIN:VEVENT
DTSTART;TZID=America/New_York:20250715T090000
DTEND;TZID=America/New_York:20250715T110000
DTSTAMP:20260420T041452
CREATED:20241217T141000Z
LAST-MODIFIED:20240912T011929Z
UID:10003769-1752570000-1752577200@www.npsot.org
SUMMARY:Habitat Workday @ EIH
DESCRIPTION:Habitat volunteers help weed and mulch flower beds\, plant native plants\, maintain pathways\, and trim trees and bushes. Volunteers may also help clean out the pond on select work days. \n\n\n\n\nNo experience necessary—we’ll show you what goes and what stays\n\n\n\nBring your own tools or use ours (we have gloves too)\n\n\n\nDon’t forget to bring a reusable water bottle\, hat\, and sunscreen!\n\n\n\n\nVolunteers must be 18 or older to participate in EIH’s workdays unless prior arrangements have been made. \n\n\n\nWe do not hold workdays when the university is officially closed. Also\, workdays are canceled during inclement weather\, though a light sprinkle or drizzle rarely keeps us out of the garden. If you’re not sure\, please call 281-283-3950 or 281-283-3045\, and we’ll let you know if we’re digging in. \n\n\n\nLocationEnvironmental Institute of Houston (Click link for Google Map)University of Houston-Clear LakeNorth Office Annex (NOA) 1 Building2700 Bay Area Blvd.Houston\, TX 77058
URL:https://www.npsot.org/event/habitat-workday-eih-4/2025-07-15/
CATEGORIES:Workday
ATTACH;FMTTYPE=image/jpeg:https://www.npsot.org/wp-content/uploads/2024/09/clc-featured-image-hwd-jpg.avif
END:VEVENT
BEGIN:VEVENT
DTSTART;TZID=America/Chicago:20250715T140000
DTEND;TZID=America/Chicago:20250715T160000
DTSTAMP:20260420T041452
CREATED:20250311T203131Z
LAST-MODIFIED:20250311T203132Z
UID:10005137-1752588000-1752595200@www.npsot.org
SUMMARY:Fredericksburg Board of Directors plans for upcoming events.
DESCRIPTION:Plans for upcoming events and membership involvement is the focus for the March meeting of the Board of Directors. Included will be the dates for the Fall Plant Sale as well as the progress for the Spring sale. Field Trip plans. Members are invited. Ask a current board member for location.
URL:https://www.npsot.org/event/fredericksburg-board-of-directors-plans-for-upcoming-events/2025-07-15/
CATEGORIES:Board Meeting,Business Meeting
END:VEVENT
BEGIN:VEVENT
DTSTART;TZID=America/Chicago:20250715T173000
DTEND;TZID=America/Chicago:20250715T190000
DTSTAMP:20260420T041452
CREATED:20250127T201904Z
LAST-MODIFIED:20250127T201907Z
UID:10003814-1752600600-1752606000@www.npsot.org
SUMMARY:Lindheimer Chapter Monthly Meeting
DESCRIPTION:Location: Tye Preston Memorial Library\, 16311 S. Access Road\, Canyon Lake\, Texas 78133.  Social time 5:30 p.m.\, business meeting 5:40 p.m.\, Plant-of-the-Month 5:50 p.m.\, hour-long program 6:20 p.m.  All presentations are available via Zoom and are recorded for our Youtube channel.
URL:https://www.npsot.org/event/monthly-chapter-meeting-6/2025-07-15/
CATEGORIES:Chapter Meeting,Virtual
ATTACH;FMTTYPE=image/png:https://www.npsot.org/wp-content/uploads/2024/09/Purple-and-white-Modern-Round-Stamp-Logo-single-flower-png.avif
END:VEVENT
BEGIN:VEVENT
DTSTART;TZID=America/Chicago:20250715T173000
DTEND;TZID=America/Chicago:20250715T200000
DTSTAMP:20260420T041452
CREATED:20250626T031020Z
LAST-MODIFIED:20250626T031207Z
UID:10005423-1752600600-1752609600@www.npsot.org
SUMMARY:Comal Conservation Indoor Picnic and Texas Nature Film Screening
DESCRIPTION:This is a family friendly indoor picnic and Texas nature docuseries (5 short films) viewing. From the folks that brought you ‘Deep In The Heart\,’ come join us and learn about our Texas State Parks\, efforts to conserve bats\, redfish\, bears\, and ocelots. \n\n\n\nMcKenna Events Center – 801 W. San Antonio St. New Braunfels\, TX 78130 \n\n\n\nFACEBOOK EVENT LINK \n\n\n\nhttps://www.facebook.com/share/1AcXHK5aZW
URL:https://www.npsot.org/event/comal-conservation-indoor-picnic-and-texas-nature-film-screening/
CATEGORIES:Social Event,Workshops and Classes
ATTACH;FMTTYPE=image/png:https://www.npsot.org/wp-content/uploads/2025/06/HEB-Flyer.avif
END:VEVENT
BEGIN:VEVENT
DTSTART;TZID=America/Chicago:20250715T183000
DTEND;TZID=America/Chicago:20250715T193000
DTSTAMP:20260420T041452
CREATED:20250617T152437Z
LAST-MODIFIED:20250617T152438Z
UID:10005232-1752604200-1752607800@www.npsot.org
SUMMARY:Effective Landscape Use of Native Plants
DESCRIPTION:Presented by Deedy Wright at the Headwaters at the Comal. Link to register.
URL:https://www.npsot.org/event/effective-landscape-use-of-native-plants-3/
END:VEVENT
BEGIN:VEVENT
DTSTART;TZID=America/Chicago:20250715T190000
DTEND;TZID=America/Chicago:20250715T210000
DTSTAMP:20260420T041452
CREATED:20250109T185213Z
LAST-MODIFIED:20250515T173607Z
UID:10004589-1752606000-1752613200@www.npsot.org
SUMMARY:Executive Committee Meeting – July 15
DESCRIPTION:Native Plant Society of Texas (NPSOT) Executive Committee meetings occur monthly and any member may attend. Contact the Executive Director prior to the meeting at state@npsot.org for Zoom and applicable document links. Please be prepared to follow the Visitor’s Executive Meeting Protocol.
URL:https://www.npsot.org/event/executive-committee-meeting-july-9/
CATEGORIES:Board Meeting,Virtual
END:VEVENT
BEGIN:VEVENT
DTSTART;TZID=America/Chicago:20250717T090000
DTEND;TZID=America/Chicago:20250717T113000
DTSTAMP:20260420T041452
CREATED:20250622T183121Z
LAST-MODIFIED:20250622T183122Z
UID:10005299-1752742800-1752751800@www.npsot.org
SUMMARY:Boerne City Campus Natural Area (BCCNA) Workday
DESCRIPTION:Join us for BCCNA workdays! \n\n\n\nThe BCCNA project involves the restoration and enhancement of the Boerne City Campus Natural Area (BCCNA). The BCCNA is comprised of 13-acres on either side of the Old No. 9 Trail\, behind the library. We are working towards restoring this area to a native pollinator habitat\, creating a wildlife corridor and haven within the city. \n\n\n\nBCCNA Workdays take place on the first and third Thursdays of each month. \n\n\n\nOur meeting place will be in the Boerne Patrick Heath Public Library parking lot near the windmill. If you don’t see us at the windmill\, walk out behind the library across the creek as we’ve likely already started!  \n\n\n\nEach volunteer will be required to fill out the City of Boerne’s liability waiver the first time he or she volunteers. \n\n\n\nContact Jeff Schwarz at jeffschwarz27@gmail.com for more info.
URL:https://www.npsot.org/event/boerne-city-campus-natural-area-bccna-workday-4/2025-07-17/
END:VEVENT
BEGIN:VEVENT
DTSTART;TZID=America/Chicago:20250717T120000
DTEND;TZID=America/Chicago:20250717T130000
DTSTAMP:20260420T041452
CREATED:20250203T041223Z
LAST-MODIFIED:20250712T205906Z
UID:10004679-1752753600-1752757200@www.npsot.org
SUMMARY:Chapter Leader Forum:  Introducing Slack\, Our New Workspace Platform
DESCRIPTION:Chapter Leader Forums provide a place for discussion and questions regarding NPSOT state and chapter issues. Let’s share ideas and support one another in growing the organization and supporting the mission!  \n\n\n\nJuly Topic: Using Slack\, Our New Workspace Platform \n\n\n\nDescription:  \n\n\n\nThis Chapter Leader Forum will provide an overview of the cloud-based communications platform\, “Slack”\, which is replacing the Society’s use of “Workplace from Meta” as our virtual office because Meta is discontinuing Workplace effective August 31\, 2025. \n\n\n\nSlack participation will be limited to Staff\, State Board members\, and members of active State committees\, and invitations will be sent out shortly. Staff\, State Board\, and Committee members are strongly encouraged to attend or sign up to receive an event recording to watch later. \n\n\n\nRenata Lucia will ease this transition by giving an overview of what Slack is and how to get started\, and then conduct demos and live Q&A along with Transition Team Members Craig Dalton and Bill Hopkins. \n\n\n\nFollowing this presentation\, you will be ready to make the transition from Workplace to Slack! \n\n\n\nPresenters: \n\n\n\nCraig Dalton\, WebmasterBill Hopkins\, NLCP Steering Committee ChairRenata Lucia\, Tech Coordinator/Administrative Assistant \n\n\n\nWhen: Thursday\, July 17\, 2025 (Third Thursday) 12 – 1 pm \n\n\n\nZoom Registration Link: \n\n\n\nhttps://npsot-org.zoom.us/meeting/register/p29dY-z8TLewXPbSeDRtsA
URL:https://www.npsot.org/event/chapter-leader-forum-14/
CATEGORIES:Chapter Leader Forum,Virtual
END:VEVENT
BEGIN:VEVENT
DTSTART;TZID=America/Chicago:20250717T190000
DTEND;TZID=America/Chicago:20250717T200000
DTSTAMP:20260420T041452
CREATED:20250715T145645Z
LAST-MODIFIED:20250715T145646Z
UID:10004710-1752778800-1752782400@www.npsot.org
SUMMARY:Bees! How We Can Help Them - July 17
DESCRIPTION:July’s talk will focus on our pollinator friends\, bees! Our speaker is Colin McKenzie\, who has worked for the USDA\, the National Park Service\, and the Bureau of Land Management. He will discuss a history of bees and their role in our ecosystem\, as well as their life histories\, taxonomic relationships\, ecology\, and anatomy. \n\n\n\n\n\n\n\n\n\n\n\nOur monthly chapter meetings are held on every 3rd Thursday\, January – November. Our meetings are free and open to the public thanks to our members and sponsors.  \n\n\n\nThe presentation will start at 7:00 pm\, but come at 6:45 pm for a meet and greet with snacks. \n\n\n\nHouston Arboretum and Nature Center \n\n\n\n610 Entrance (preferred)120 W Loop N FwyHouston\, TX 77024 \n\n\n\nWoodway Entrance4501 Woodway DriveHouston\, TX 77024 \n\n\n\nMeetings will also be live-streamed and recorded for later viewing. \n\n\n\n\n\n\n\n\n\nReturn to Houston Chapter Page
URL:https://www.npsot.org/event/bees-how-we-can-help-them-july-17/
CATEGORIES:Chapter Meeting,Virtual
ATTACH;FMTTYPE=image/png:https://www.npsot.org/wp-content/uploads/2025/07/image-1.avif
END:VEVENT
BEGIN:VEVENT
DTSTART;TZID=America/Chicago:20250719T090000
DTEND;TZID=America/Chicago:20250719T110000
DTSTAMP:20260420T041452
CREATED:20250704T183226Z
LAST-MODIFIED:20250704T183228Z
UID:10005426-1752915600-1752922800@www.npsot.org
SUMMARY:Lake Mineral Wells State Park Pollinator Garden Work Day\, Volunteer Opportunity\, Cross Timbers Chapter\, Mineral Wells\, Saturday\, 7/19/2025 at 9 a.m.
DESCRIPTION:🌿 Calling All Native Plant Enthusiasts! 🌿  Be a Pollinator Protector! 🐝🌸 \n\n\n\nJoin us for a morning of volunteer magic at Lake Mineral Wells State Park. 🌼✨ \n\n\n\nYou can help maintain the pollinator garden at Lake Mineral Wells State Park! 🌼🦋 This wonderful community effort supports our local ecosystems and provides habitat to facilitate the important work of pollinators.  This garden provides educational information to visitors and is utilized by the park staff to explain the importance of native plants and their benefits. \n\n\n\nHere are some suggestions on clothing and what to bring: \n\n\n\n\nWork Clothing: Wear comfortable work clothing appropriate for the weather. Layers are great for adjusting to changing conditions.\n\n\n\nGloves: If you have gardening gloves\, bring them along. They’ll protect your hands while working with plants and soil.\n\n\n\nGardening Tools: If you own any gardening tools\, such as nippers\, shovels\, spades\, pitchforks\, or wheelbarrows\, feel free to bring them.  Buckets and brooms are also useful. These tools can be incredibly helpful for various tasks.\n\n\n\nWater: Stay hydrated! Bring a water bottle to keep yourself refreshed during the work.\n\n\n\nHat:  A hat with a wide brim provides shade for your face\, neck\, and ears\, protecting you from direct sunlight. It helps prevent sunburn and reduces the risk of skin damage caused by UV radiation.  In case of cooler weather\, wear a hat to keep warm.\n\n\n\n\nAdditional Details: \n\n\n\n\nIf the temperature is below 40°F or if it’s raining\, the workday will be canceled. \n\n\n\nFor any specific questions or further information\, you can reach out to Cindy Crump at cindyleecrump@gmail.com or Vicki Brooks at vicki.brooks@icloud.com\n\n\n\n\nLocation: \n\n\n\n\nLake Mineral Wells State Park\, 100 Park Road 71\, Mineral Wells\, Texas.\n\n\n\nBefore entering the park gates\, take a left into the administration building parking lot.\n\n\n\n\nMeeting Point: \n\n\n\n\nMeet at the garden located near the administration building entrance (before paying at the gate).\n\n\n\n\nLet’s come together and contribute to the beauty and health of our local environment! 🌿🌸 \n\n\n\nVolunteer hours count towards Texas Master Naturalist and Texas Master Gardeners.
URL:https://www.npsot.org/event/lake-mineral-wells-state-park-pollinator-garden-work-day-volunteer-opportunity-cross-timbers-chapter-mineral-wells-saturday-7-19-2025-at-9-a-m/
CATEGORIES:Volunteer Opportunity,Workday
ATTACH;FMTTYPE=image/jpeg:https://www.npsot.org/wp-content/uploads/2025/01/Lake-Mineral-Wells.avif
END:VEVENT
END:VCALENDAR