
BEGIN:VCALENDAR
VERSION:2.0
PRODID:-//Native Plant Society of Texas - ECPv6.15.20//NONSGML v1.0//EN
CALSCALE:GREGORIAN
METHOD:PUBLISH
X-WR-CALNAME:Native Plant Society of Texas
X-ORIGINAL-URL:https://www.npsot.org
X-WR-CALDESC:Events for Native Plant Society of Texas
REFRESH-INTERVAL;VALUE=DURATION:PT1H
X-Robots-Tag:noindex
X-PUBLISHED-TTL:PT1H
BEGIN:VTIMEZONE
TZID:America/New_York
BEGIN:DAYLIGHT
TZOFFSETFROM:-0500
TZOFFSETTO:-0400
TZNAME:EDT
DTSTART:20240310T070000
END:DAYLIGHT
BEGIN:STANDARD
TZOFFSETFROM:-0400
TZOFFSETTO:-0500
TZNAME:EST
DTSTART:20241103T060000
END:STANDARD
BEGIN:DAYLIGHT
TZOFFSETFROM:-0500
TZOFFSETTO:-0400
TZNAME:EDT
DTSTART:20250309T070000
END:DAYLIGHT
BEGIN:STANDARD
TZOFFSETFROM:-0400
TZOFFSETTO:-0500
TZNAME:EST
DTSTART:20251102T060000
END:STANDARD
BEGIN:DAYLIGHT
TZOFFSETFROM:-0500
TZOFFSETTO:-0400
TZNAME:EDT
DTSTART:20260308T070000
END:DAYLIGHT
BEGIN:STANDARD
TZOFFSETFROM:-0400
TZOFFSETTO:-0500
TZNAME:EST
DTSTART:20261101T060000
END:STANDARD
END:VTIMEZONE
BEGIN:VTIMEZONE
TZID:America/Chicago
BEGIN:DAYLIGHT
TZOFFSETFROM:-0600
TZOFFSETTO:-0500
TZNAME:CDT
DTSTART:20240310T080000
END:DAYLIGHT
BEGIN:STANDARD
TZOFFSETFROM:-0500
TZOFFSETTO:-0600
TZNAME:CST
DTSTART:20241103T070000
END:STANDARD
BEGIN:DAYLIGHT
TZOFFSETFROM:-0600
TZOFFSETTO:-0500
TZNAME:CDT
DTSTART:20250309T080000
END:DAYLIGHT
BEGIN:STANDARD
TZOFFSETFROM:-0500
TZOFFSETTO:-0600
TZNAME:CST
DTSTART:20251102T070000
END:STANDARD
BEGIN:DAYLIGHT
TZOFFSETFROM:-0600
TZOFFSETTO:-0500
TZNAME:CDT
DTSTART:20260308T080000
END:DAYLIGHT
BEGIN:STANDARD
TZOFFSETFROM:-0500
TZOFFSETTO:-0600
TZNAME:CST
DTSTART:20261101T070000
END:STANDARD
END:VTIMEZONE
BEGIN:VEVENT
DTSTART;TZID=America/New_York:20250930T090000
DTEND;TZID=America/New_York:20250930T110000
DTSTAMP:20260425T090257
CREATED:20241217T141000Z
LAST-MODIFIED:20240912T011929Z
UID:10003780-1759222800-1759230000@www.npsot.org
SUMMARY:Habitat Workday @ EIH
DESCRIPTION:Habitat volunteers help weed and mulch flower beds\, plant native plants\, maintain pathways\, and trim trees and bushes. Volunteers may also help clean out the pond on select work days. \n\n\n\n\nNo experience necessary—we’ll show you what goes and what stays\n\n\n\nBring your own tools or use ours (we have gloves too)\n\n\n\nDon’t forget to bring a reusable water bottle\, hat\, and sunscreen!\n\n\n\n\nVolunteers must be 18 or older to participate in EIH’s workdays unless prior arrangements have been made. \n\n\n\nWe do not hold workdays when the university is officially closed. Also\, workdays are canceled during inclement weather\, though a light sprinkle or drizzle rarely keeps us out of the garden. If you’re not sure\, please call 281-283-3950 or 281-283-3045\, and we’ll let you know if we’re digging in. \n\n\n\nLocationEnvironmental Institute of Houston (Click link for Google Map)University of Houston-Clear LakeNorth Office Annex (NOA) 1 Building2700 Bay Area Blvd.Houston\, TX 77058
URL:https://www.npsot.org/event/habitat-workday-eih-4/2025-09-30/
CATEGORIES:Workday
ATTACH;FMTTYPE=image/jpeg:https://www.npsot.org/wp-content/uploads/2024/09/clc-featured-image-hwd-jpg.avif
END:VEVENT
BEGIN:VEVENT
DTSTART;TZID=America/Chicago:20251001T140000
DTEND;TZID=America/Chicago:20251001T153000
DTSTAMP:20260425T090257
CREATED:20250729T172520Z
LAST-MODIFIED:20250919T003515Z
UID:10005447-1759327200-1759332600@www.npsot.org
SUMMARY:Oct. 1 Lakes & Pines Chapter Meeting: "Milkweed 101 - Growing Milkweed From Seeds" presentation/workshop with Diana Black
DESCRIPTION:For more info\, click HERE
URL:https://www.npsot.org/event/lakes-pines-chapter-meeting-milkweed-101-growing-milkweed-from-seeds-presentation-workshop-by-diana-black/
CATEGORIES:Chapter Meeting
ATTACH;FMTTYPE=image/png:https://www.npsot.org/wp-content/uploads/2025/09/10-01-25-Milkweed-101.avif
END:VEVENT
BEGIN:VEVENT
DTSTART;TZID=America/Chicago:20251002T090000
DTEND;TZID=America/Chicago:20251002T113000
DTSTAMP:20260425T090257
CREATED:20250622T182651Z
LAST-MODIFIED:20251225T021812Z
UID:10005241-1759395600-1759404600@www.npsot.org
SUMMARY:Boerne City Campus Natural Area (BCCNA) Workday
DESCRIPTION:Join us for BCCNA workdays! \n\n\n\nThe BCCNA project involves the restoration and enhancement of the Boerne City Campus Natural Area (BCCNA). The BCCNA is comprised of 13-acres on either side of the Old No. 9 Trail\, behind the library. We are working towards restoring this area to a native pollinator habitat\, creating a wildlife corridor and haven within the city. \n\n\n\nBCCNA Workdays take place on the first and third Thursdays of each month. \n\n\n\nOur meeting place will be in the Boerne Patrick Heath Public Library parking lot near the windmill. If you don’t see us at the windmill\, walk out behind the library across the creek as we’ve likely already started!  \n\n\n\nEach volunteer will be required to fill out the City of Boerne’s liability waiver the first time he or she volunteers. \n\n\n\nContact Jeff Schwarz at jeffschwarz27@gmail.com for more info.
URL:https://www.npsot.org/event/boerne-city-campus-natural-area-bccna-workday-3/2025-10-02/
END:VEVENT
BEGIN:VEVENT
DTSTART;TZID=America/Chicago:20251002T093000
DTEND;TZID=America/Chicago:20251002T110000
DTSTAMP:20260425T090257
CREATED:20250215T195243Z
LAST-MODIFIED:20250215T195316Z
UID:10004523-1759397400-1759402800@www.npsot.org
SUMMARY:Workdays at the Heritage Museum of the Texas Hill Country Demonstration Garden
DESCRIPTION:We are thrilled to invite you to our upcoming Demonstration Garden Workday! This is a fantastic opportunity to get your hands dirty\, learn new gardening techniques\, and contribute to the beauty and sustainability of our community garden. The garden is located at 4831 FM 2673\, Canyon Lake\, TX.  Contact Mickey Riviere\, mr0752@gvtc.com\, for details. \n\n\n\nWhat to Expect: \n\n\n\n\nHands-On Learning: Gain practical experience in planting\, pruning\, and maintaining a variety of native plants.\n\n\n\nExpert Guidance: Our knowledgeable gardeners will be on hand to share tips and answer your gardening questions.\n\n\n\nCommunity Spirit: Meet fellow garden lovers\, share stories\, and enjoy the camaraderie of working together.\n\n\n\n\nWhat to Bring: \n\n\n\n\nComfortable clothing and gardening gloves\n\n\n\nA hat\, sunscreen\, and water\n\n\n\nYour boundless enthusiasm and love for gardening!\n\n\n\n\nWhether you’re a seasoned gardener or just starting out\, this workday is for everyone. Let’s come together to make our demonstration garden a thriving\, beautiful space for all to enjoy.
URL:https://www.npsot.org/event/workdays-at-the-heritage-museum-of-the-texas-hill-country-demonstration-garden-5/2025-10-02/
ATTACH;FMTTYPE=image/webp:https://www.npsot.org/wp-content/uploads/2024/10/Museum-of-the-Texas-Hill-Country.webp
END:VEVENT
BEGIN:VEVENT
DTSTART;TZID=America/Chicago:20251002T173000
DTEND;TZID=America/Chicago:20251002T190000
DTSTAMP:20260425T090257
CREATED:20250919T152132Z
LAST-MODIFIED:20250919T152134Z
UID:10005672-1759426200-1759431600@www.npsot.org
SUMMARY:Meet the RGV Chapter - Native Plant Society of Texas
DESCRIPTION:Save the Date! \n\n\n\nTime to find your gloves and sharpen your shovel. It’s planting time in the RGV! \n\n\n\nCome learn why now is the best time to plant in the RGV and what do we mean by ‘right plant; right place’. You’ll also learn more about the Native Plant Society of Texas\, our Chapter in South Texas\, and prepare yourself for our Spring offering of classes as part of our Native Landscape Certification Program. \n\n\n\nHope to see you there!
URL:https://www.npsot.org/event/meet-the-rgv-chapter-native-plant-society-of-texas/
CATEGORIES:Community Outreach
ATTACH;FMTTYPE=image/png:https://www.npsot.org/wp-content/uploads/2025/09/Save-the-Date-STEC.avif
END:VEVENT
BEGIN:VEVENT
DTSTART;TZID=America/Chicago:20251002T180000
DTEND;TZID=America/Chicago:20251002T193000
DTSTAMP:20260425T090257
CREATED:20250924T022043Z
LAST-MODIFIED:20250924T022045Z
UID:10005677-1759428000-1759433400@www.npsot.org
SUMMARY:OCTOBER CHAPTER MEETING- October 2nd- “How Earth’s Changing Climate is Changing Ecosystems”
DESCRIPTION:October’s presentation provides context for our Society’s efforts to protect and sustain Texas ecosystems into a future being changed by climate. Speaker Vince Cronin has studied\, researched\, taught and worked in applied Geoscience since 1975.  A licensed professional geologist in Texas as well as nationally certified\, he is also the author of the most widely used laboratory textbook in physical geology and co-creator of its chapter on Earth’s dynamic climate.  \n\n\n\nPost Oak NPSOT October 2025 meeting
URL:https://www.npsot.org/event/october-chapter-meeting-october-2nd-how-earths-changing-climate-is-changing-ecosystems/
CATEGORIES:Chapter Meeting
ATTACH;FMTTYPE=image/jpeg:https://www.npsot.org/wp-content/uploads/2025/04/2025.10-NPSOT-PO-mtg-flyer-edited.avif
END:VEVENT
BEGIN:VEVENT
DTSTART;TZID=America/Chicago:20251002T183000
DTEND;TZID=America/Chicago:20251002T203000
DTSTAMP:20260425T090257
CREATED:20250206T221257Z
LAST-MODIFIED:20250206T221641Z
UID:10004715-1759429800-1759437000@www.npsot.org
SUMMARY:Native Plant Exchange\, North Central Chapter Meeting
DESCRIPTION:Native Plant Exchange  \n\n\n\nBring your favorite native plant to exchange for another. Some things to share with our members; name (common and scientific)\, conditions\, location\, how the plant benefits your environment\, characteristics you love.. Take a new native plant home for your garden. Even if you don’t have one in a pot to bring\, come anyway. We have extras and we love to share! \n\n\n\nTo research more about your plant visit our Native Plant Database at https://www.npsot.org/resources/native-plants/native-plants-database/ or the ITIS database at itis.gov. \n\n\n\nFort Worth Botanic Garden in the Orchid & Iris Room \n\n\n\n3220 Botanic Garden Blvd\, Fort Worth\, Texas 76107 \n\n\n\n6:30 pm Socializing & snacks  \n\n\n\nIn person only\, No Zoom option is available.
URL:https://www.npsot.org/event/native-plant-exchange-north-central-chapter-meeting/
CATEGORIES:Chapter Meeting
END:VEVENT
BEGIN:VEVENT
DTSTART;TZID=America/Chicago:20251002T183000
DTEND;TZID=America/Chicago:20251002T203000
DTSTAMP:20260425T090257
CREATED:20250828T195637Z
LAST-MODIFIED:20250924T223053Z
UID:10003883-1759429800-1759437000@www.npsot.org
SUMMARY:Austin Chapter Meeting - Trees of Hope
DESCRIPTION:Trees of Hope \n\n\n\nGuest Speaker: Bailey Hoops \n\n\n\nDrought\, water restrictions and intense winter storms\, oh my! Are you ready to plant some new native trees in your landscape? Looking to replace dead or fallen trees with natives that are beautiful to experience and vital to the wildlife in your neighborhood? Please join us as we discuss a wide variety of native trees including canopy and understory trees. You will learn tree characteristics\, preferred growing conditions and how your tree choice can leave a legacy to the people and wildlife around you. Trees of Hope class offers choices so you can feel empowered to make a positive change in your yard\, to better our community. \n\n\n\nBailey Hoops is a clinically trained herbalist\, certified permaculture designer and certified with the Native Plant Society of Texas in Landscaping with Native Plants. Her greatest passions are butterflies\, native medicinal plants\, and leading plant walks. She has spent 10 years building a medicinal food forest at her home\, with a large emphasis on native pollinator plants. You can currently find her working with the Oak hill VFW post # 4443\, helping run the Paul Pena Community Garden \n\n\n\nThis is a hybrid online and in-person meeting\, with the in-person meeting at \n\n\n\nLakewood Clubhouse 7317 Lakewood Dr. Austin\, TX 78750 \n\n\n\nThis is off 360. \n\n\n\nWe will have seeds for swapping and sharing. Collect seeds from your yard and bring some to share with us. Excess seeds may be shared at future meetings or donated to the Central Texas Seed Savers collections at the Austin Public Library. \n\n\n\nYou are invited (but not expected) to bring a small dish or drink to share. \n\n\n\nYou can register for the Zoom meeting to attend online. \n\n\n\nSocial time begins at 6:30pm. Main speaker begins at 7pm\, followed by the Austin Chapter business meeting.
URL:https://www.npsot.org/event/austin-chapter-meeting-20/
LOCATION:Lakewood Clubhouse\, 7317 Lakewood Dr.\, Austin\, Texas\, 78750\, United States
CATEGORIES:Chapter Meeting,Virtual
ATTACH;FMTTYPE=image/png:https://www.npsot.org/wp-content/uploads/2022/09/Large-Blue-1.png
END:VEVENT
BEGIN:VEVENT
DTSTART;TZID=America/Chicago:20251003T080000
DTEND;TZID=America/Chicago:20251005T170000
DTSTAMP:20260425T090257
CREATED:20250309T162507Z
LAST-MODIFIED:20250902T005449Z
UID:10005054-1759478400-1759683600@www.npsot.org
SUMMARY:NPSOT Hybrid Fall Symposium
DESCRIPTION:2025 Fall Symposium\n\n\n\n\nThe Native Plant Society of Texas 2025 Fall Symposium is coming to Salado\, TX\, October 3rd-5th!\n\n\n\nThis year’s theme is “Teach for the Future!” \n\n\n\nVirtual Event Overview:\n\n\n\n\nVirtual Registration\n\n\n\n\nIn-Person Event Overview\n\n\n\nThe Salado Middle School will serve as the symposium headquarters and NPSOT group-rate lodging is available for a limited time at hotels and other accommodations throughout the city. The full schedule will include insightful plenary sessions\, open-seating concurrent sessions\, a choice of guided-field trips through the region\, the Annual State Meeting of Members\, the Annual Awards Banquet\, and much more. \n\n\n\nAttendees can attend a meet and greet\, participate in our silent auction\, visit vendor\, exhibitor\, and sponsor displays at the Middle School\, and take self-guided field trips in Salado\, and when traveling to and from the Symposium. \n\n\n\nThis hybrid event includes registration options for in-person and virtual attendance\, with in-person Society member and scholastic discounts.
URL:https://www.npsot.org/event/npsot-fall-symposium-5/
CATEGORIES:Conferences and Symposiums,Virtual
END:VEVENT
BEGIN:VEVENT
DTSTART;TZID=America/Chicago:20251004T090000
DTEND;TZID=America/Chicago:20251004T120000
DTSTAMP:20260425T090257
CREATED:20250912T191057Z
LAST-MODIFIED:20250912T203731Z
UID:10005634-1759568400-1759579200@www.npsot.org
SUMMARY:Fall Native Tree and Plant Sale
DESCRIPTION:9:00 am Early Access for Members of NPSOT-Kerrville\, RNC & TMN-Hill Country.General Public admission at 9:30 \n\n\n\nExperts will be available to help you select plants that will thrive in your specific landscape conditions. \n\n\n\n\nNative Trees\n\n\n\nShrubs\n\n\n\nPerennials\n\n\n\nGrasses \n\n\n\n\nSPECIAL FEATURE: Riparian plants & flood recovery info! \n\n\n\nTAX FREE DAY! \n\n\n\nVisit RiversideNatureCenter.org for more details as they become available.
URL:https://www.npsot.org/event/fall-native-tree-and-plant-sale/
CATEGORIES:Plant Sale
ATTACH;FMTTYPE=image/jpeg:https://www.npsot.org/wp-content/uploads/2025/09/Fall-Native-Tree-Plant-Sale-2025.avif
END:VEVENT
END:VCALENDAR